BEGIN:VCALENDAR
VERSION:2.0
PRODID:-//3W Magazine - ECPv6.15.20//NONSGML v1.0//EN
CALSCALE:GREGORIAN
METHOD:PUBLISH
X-WR-CALNAME:3W Magazine
X-ORIGINAL-URL:https://3wmagazine.com
X-WR-CALDESC:Events for 3W Magazine
REFRESH-INTERVAL;VALUE=DURATION:PT1H
X-Robots-Tag:noindex
X-PUBLISHED-TTL:PT1H
BEGIN:VTIMEZONE
TZID:America/Denver
BEGIN:DAYLIGHT
TZOFFSETFROM:-0700
TZOFFSETTO:-0600
TZNAME:MDT
DTSTART:20190310T090000
END:DAYLIGHT
BEGIN:STANDARD
TZOFFSETFROM:-0600
TZOFFSETTO:-0700
TZNAME:MST
DTSTART:20191103T080000
END:STANDARD
BEGIN:DAYLIGHT
TZOFFSETFROM:-0700
TZOFFSETTO:-0600
TZNAME:MDT
DTSTART:20200308T090000
END:DAYLIGHT
BEGIN:STANDARD
TZOFFSETFROM:-0600
TZOFFSETTO:-0700
TZNAME:MST
DTSTART:20201101T080000
END:STANDARD
BEGIN:DAYLIGHT
TZOFFSETFROM:-0700
TZOFFSETTO:-0600
TZNAME:MDT
DTSTART:20210314T090000
END:DAYLIGHT
BEGIN:STANDARD
TZOFFSETFROM:-0600
TZOFFSETTO:-0700
TZNAME:MST
DTSTART:20211107T080000
END:STANDARD
END:VTIMEZONE
BEGIN:VEVENT
DTSTART;VALUE=DATE:20200730
DTEND;VALUE=DATE:20200814
DTSTAMP:20260421T013259
CREATED:20200113T025810Z
LAST-MODIFIED:20200521T185347Z
UID:1009711-1596067200-1597363199@3wmagazine.com
SUMMARY:***LIVE EVENT CANCELED & CHANGED TO ONLINE MATCHING FUND DRIVE JULY 30-Aug. 13*** - Color of Hope Gala
DESCRIPTION:***LIVE EVENT CANCELED & CHANGED TO ONLINE MATCHING FUND DRIVE JULY 30-Aug. 13*** – The Color of Hope Gala live event has been canceled\, and the event has changed to an Online Matching Fund Drive from July 30 to Aug. 13. The Willard & Pat Walker Charitable Foundation and SC Johnson have both stepped forward to support a matching gift of $150\,000. For more information\, visit www.golfandgala.com.
URL:https://3wmagazine.com/event/color-of-hope-gala-2020/
CATEGORIES:August,Happenings,July,Sponsored
ATTACH;FMTTYPE=image/png:https://3wmagazine.com/wp-content/uploads/2020/05/coh-2020-graphic.png
END:VEVENT
END:VCALENDAR