BEGIN:VCALENDAR
VERSION:2.0
PRODID:-//3W Magazine - ECPv6.15.20//NONSGML v1.0//EN
CALSCALE:GREGORIAN
METHOD:PUBLISH
X-WR-CALNAME:3W Magazine
X-ORIGINAL-URL:https://3wmagazine.com
X-WR-CALDESC:Events for 3W Magazine
REFRESH-INTERVAL;VALUE=DURATION:PT1H
X-Robots-Tag:noindex
X-PUBLISHED-TTL:PT1H
BEGIN:VTIMEZONE
TZID:America/Denver
BEGIN:DAYLIGHT
TZOFFSETFROM:-0700
TZOFFSETTO:-0600
TZNAME:MDT
DTSTART:20190310T090000
END:DAYLIGHT
BEGIN:STANDARD
TZOFFSETFROM:-0600
TZOFFSETTO:-0700
TZNAME:MST
DTSTART:20191103T080000
END:STANDARD
BEGIN:DAYLIGHT
TZOFFSETFROM:-0700
TZOFFSETTO:-0600
TZNAME:MDT
DTSTART:20200308T090000
END:DAYLIGHT
BEGIN:STANDARD
TZOFFSETFROM:-0600
TZOFFSETTO:-0700
TZNAME:MST
DTSTART:20201101T080000
END:STANDARD
BEGIN:DAYLIGHT
TZOFFSETFROM:-0700
TZOFFSETTO:-0600
TZNAME:MDT
DTSTART:20210314T090000
END:DAYLIGHT
BEGIN:STANDARD
TZOFFSETFROM:-0600
TZOFFSETTO:-0700
TZNAME:MST
DTSTART:20211107T080000
END:STANDARD
END:VTIMEZONE
BEGIN:VEVENT
DTSTART;VALUE=DATE:20201106
DTEND;VALUE=DATE:20201107
DTSTAMP:20260422T155038
CREATED:20200114T053603Z
LAST-MODIFIED:20201103T052032Z
UID:1009832-1604620800-1604707199@3wmagazine.com
SUMMARY:Big Night Gala
DESCRIPTION:This year is the 25th anniversary of the Big Night Gala! Enjoy a signature sit-down dinner\, a video presentation and live auction. The Jones Center is also providing a virtual attendance option for off-site guests to tune into a live 1-hour program to celebrate the center’s 25th anniversary. All of the gala proceeds stay local to benefit the center. For details\, visit www.thejonescenter.net.
URL:https://3wmagazine.com/event/big-night-gala-2020/
LOCATION:The Jones Center\, 922 E. Emma Ave.\, Springdale\, AR\, 72764\, United States
CATEGORIES:Happenings,November,Sponsored
ATTACH;FMTTYPE=image/jpeg:https://3wmagazine.com/wp-content/uploads/2020/01/Unknown-1-e1586972397280.jpeg
END:VEVENT
END:VCALENDAR