BEGIN:VCALENDAR
VERSION:2.0
PRODID:-//3W Magazine - ECPv6.15.20//NONSGML v1.0//EN
CALSCALE:GREGORIAN
METHOD:PUBLISH
X-WR-CALNAME:3W Magazine
X-ORIGINAL-URL:https://3wmagazine.com
X-WR-CALDESC:Events for 3W Magazine
REFRESH-INTERVAL;VALUE=DURATION:PT1H
X-Robots-Tag:noindex
X-PUBLISHED-TTL:PT1H
BEGIN:VTIMEZONE
TZID:America/Denver
BEGIN:DAYLIGHT
TZOFFSETFROM:-0700
TZOFFSETTO:-0600
TZNAME:MDT
DTSTART:20200308T090000
END:DAYLIGHT
BEGIN:STANDARD
TZOFFSETFROM:-0600
TZOFFSETTO:-0700
TZNAME:MST
DTSTART:20201101T080000
END:STANDARD
BEGIN:DAYLIGHT
TZOFFSETFROM:-0700
TZOFFSETTO:-0600
TZNAME:MDT
DTSTART:20210314T090000
END:DAYLIGHT
BEGIN:STANDARD
TZOFFSETFROM:-0600
TZOFFSETTO:-0700
TZNAME:MST
DTSTART:20211107T080000
END:STANDARD
BEGIN:DAYLIGHT
TZOFFSETFROM:-0700
TZOFFSETTO:-0600
TZNAME:MDT
DTSTART:20220313T090000
END:DAYLIGHT
BEGIN:STANDARD
TZOFFSETFROM:-0600
TZOFFSETTO:-0700
TZNAME:MST
DTSTART:20221106T080000
END:STANDARD
END:VTIMEZONE
BEGIN:VEVENT
DTSTART;VALUE=DATE:20210603
DTEND;VALUE=DATE:20210604
DTSTAMP:20260421T170933
CREATED:20210526T162629Z
LAST-MODIFIED:20210526T162828Z
UID:1012115-1622678400-1622764799@3wmagazine.com
SUMMARY:TheatreSquared Gala
DESCRIPTION:TheatreSquared Gala on June 3 at Fayetteville Public Library will feature top-shelf wine\, a gourmet dinner and a command performance by Broadway veteran Carmen Cusack — unforgettable in her Tony-nominated performance in Steve Martin and Edie Brickell’s “Bright Star.” For more information\, visit www.theatre2.org.
URL:https://3wmagazine.com/event/theatresquared-gala-2021/
CATEGORIES:June,Sponsored
ATTACH;FMTTYPE=image/png:https://3wmagazine.com/wp-content/uploads/2021/05/c8f37b188114d7c1bdbb4a2dcff3a8c5-e1622046495134.png
END:VEVENT
END:VCALENDAR