BEGIN:VCALENDAR
VERSION:2.0
PRODID:-//3W Magazine - ECPv6.15.20//NONSGML v1.0//EN
CALSCALE:GREGORIAN
METHOD:PUBLISH
X-WR-CALNAME:3W Magazine
X-ORIGINAL-URL:https://3wmagazine.com
X-WR-CALDESC:Events for 3W Magazine
REFRESH-INTERVAL;VALUE=DURATION:PT1H
X-Robots-Tag:noindex
X-PUBLISHED-TTL:PT1H
BEGIN:VTIMEZONE
TZID:America/Denver
BEGIN:DAYLIGHT
TZOFFSETFROM:-0700
TZOFFSETTO:-0600
TZNAME:MDT
DTSTART:20200308T090000
END:DAYLIGHT
BEGIN:STANDARD
TZOFFSETFROM:-0600
TZOFFSETTO:-0700
TZNAME:MST
DTSTART:20201101T080000
END:STANDARD
BEGIN:DAYLIGHT
TZOFFSETFROM:-0700
TZOFFSETTO:-0600
TZNAME:MDT
DTSTART:20210314T090000
END:DAYLIGHT
BEGIN:STANDARD
TZOFFSETFROM:-0600
TZOFFSETTO:-0700
TZNAME:MST
DTSTART:20211107T080000
END:STANDARD
BEGIN:DAYLIGHT
TZOFFSETFROM:-0700
TZOFFSETTO:-0600
TZNAME:MDT
DTSTART:20220313T090000
END:DAYLIGHT
BEGIN:STANDARD
TZOFFSETFROM:-0600
TZOFFSETTO:-0700
TZNAME:MST
DTSTART:20221106T080000
END:STANDARD
END:VTIMEZONE
BEGIN:VEVENT
DTSTART;VALUE=DATE:20211020
DTEND;VALUE=DATE:20211206
DTSTAMP:20260421T152146
CREATED:20211028T155159Z
LAST-MODIFIED:20211028T155215Z
UID:1013040-1634688000-1638748799@3wmagazine.com
SUMMARY:"Tiny Beautiful Things"
DESCRIPTION:A celebration of the simple beauty of being human\, this funny and deeply touching exploration of resilience is based on Cheryl Strayed’s (Wild) journey as the beloved anonymous advice columnist for “Dear Sugar.” Over the years\, thousands of people turned to Sugar for words of wisdom\, compassion and hope. At first unsure\, Sugar finds a way to weave her own life experiences together with the deep yearning and heartrending questions from her readers. It is adapted for the stage by Nia Vardalos\, the Academy Award-nominated writer of “My Big Fat Greek Wedding.” For more details\, visit https://www.theatre2.org.
URL:https://3wmagazine.com/event/tiny-beautiful-things-2021/
CATEGORIES:December,November,October,Sponsored
END:VEVENT
BEGIN:VEVENT
DTSTART;VALUE=DATE:20211103
DTEND;VALUE=DATE:20211106
DTSTAMP:20260421T152146
CREATED:20211012T182301Z
LAST-MODIFIED:20211012T182412Z
UID:1012997-1635897600-1636156799@3wmagazine.com
SUMMARY:Aiming for Zero Luncheon and Topgolf Tournament 2021
DESCRIPTION:Project Zero is excited to announce our first-ever Aiming for Zero Luncheon & Topgolf tournament in Northwest Arkansas! This Masters themed event at 11 a.m. Nov. 3 at Kindred North will start with a special lunch and keynote speaker and adoption advocate\, Chelsea Helms of KNWA\, to celebrate National Adoption Month and Project Zero’s 10th anniversary. Project Zero will be hosting a Topgolf Tournament on Nov. 5 from 9 a.m. to noon at Topgolf in Rogers with lunch included. This event is open to anyone who would like to purchase a team or become an event sponsor. Register for the Topgolf event here: https://form.123formbuilder.com/5953230/nwa-aiming-for-zero-registration?fbclid=IwAR10lYq6SyI9c6OokoYxjMbkJm-qz0OjOVlYyaHspHiS-pbJy7Ft_pIkQ1k. \nThese unique events are designed to raise essential funds and celebrate Project Zero’s 10th year of advocating adoption\, building hope\, and connecting children and teens waiting in foster care to be adopted with forever families. For more details\, visit https://theprojectzero.org.
URL:https://3wmagazine.com/event/aiming-for-zero-luncheon-and-topgolf-tournament-2021/
CATEGORIES:November,Sponsored
ATTACH;FMTTYPE=image/jpeg:https://3wmagazine.com/wp-content/uploads/2021/10/242116017_4314219778670113_189451535850721577_n-e1634062901476.jpg
END:VEVENT
BEGIN:VEVENT
DTSTART;VALUE=DATE:20211105
DTEND;VALUE=DATE:20211106
DTSTAMP:20260421T152146
CREATED:20210126T164816Z
LAST-MODIFIED:20211025T164441Z
UID:1011430-1636070400-1636156799@3wmagazine.com
SUMMARY:***CANCELED*** - EAT (Engage And Taste) at Brightwater
DESCRIPTION:***CANCELED*** – The EAT event is a culinary competition for the students enrolled in the Ignite culinary program through Bentonville Schools and is a fundraiser for Sharing & Caring of Benton County to continue providing scholarship funds to area high school students who will be furthering their studies in key disciplines\, including construction\, media production\, culinary and medical arts. For more information\, visit www.sharingandcaringkids.com.
URL:https://3wmagazine.com/event/eat-engage-and-taste-at-brightwater-2021/
CATEGORIES:November,Sponsored
END:VEVENT
BEGIN:VEVENT
DTSTART;VALUE=DATE:20211105
DTEND;VALUE=DATE:20211106
DTSTAMP:20260421T152146
CREATED:20210127T230610Z
LAST-MODIFIED:20211025T165230Z
UID:1011680-1636070400-1636156799@3wmagazine.com
SUMMARY:Big Night Gala
DESCRIPTION:The annual Big Night Gala at The Jones Center has grown into one of Northwest Arkansas’ signature holiday events. Proceeds from the event support youth programming at The Jones Center. For details\, visit www.thejonescenter.net.
URL:https://3wmagazine.com/event/big-night-gala-2021/
CATEGORIES:November,Sponsored
ATTACH;FMTTYPE=image/png:https://3wmagazine.com/wp-content/uploads/2021/01/Screen-Shot-2021-10-25-at-11.48.17-AM.png
END:VEVENT
END:VCALENDAR