BEGIN:VCALENDAR
VERSION:2.0
PRODID:-//3W Magazine - ECPv6.15.20//NONSGML v1.0//EN
CALSCALE:GREGORIAN
METHOD:PUBLISH
X-ORIGINAL-URL:https://3wmagazine.com
X-WR-CALDESC:Events for 3W Magazine
REFRESH-INTERVAL;VALUE=DURATION:PT1H
X-Robots-Tag:noindex
X-PUBLISHED-TTL:PT1H
BEGIN:VTIMEZONE
TZID:America/Denver
BEGIN:DAYLIGHT
TZOFFSETFROM:-0700
TZOFFSETTO:-0600
TZNAME:MDT
DTSTART:20200308T090000
END:DAYLIGHT
BEGIN:STANDARD
TZOFFSETFROM:-0600
TZOFFSETTO:-0700
TZNAME:MST
DTSTART:20201101T080000
END:STANDARD
BEGIN:DAYLIGHT
TZOFFSETFROM:-0700
TZOFFSETTO:-0600
TZNAME:MDT
DTSTART:20210314T090000
END:DAYLIGHT
BEGIN:STANDARD
TZOFFSETFROM:-0600
TZOFFSETTO:-0700
TZNAME:MST
DTSTART:20211107T080000
END:STANDARD
BEGIN:DAYLIGHT
TZOFFSETFROM:-0700
TZOFFSETTO:-0600
TZNAME:MDT
DTSTART:20220313T090000
END:DAYLIGHT
BEGIN:STANDARD
TZOFFSETFROM:-0600
TZOFFSETTO:-0700
TZNAME:MST
DTSTART:20221106T080000
END:STANDARD
END:VTIMEZONE
BEGIN:VEVENT
DTSTART;VALUE=DATE:20211020
DTEND;VALUE=DATE:20211206
DTSTAMP:20260421T192450
CREATED:20211028T155159Z
LAST-MODIFIED:20211028T155215Z
UID:1013040-1634688000-1638748799@3wmagazine.com
SUMMARY:"Tiny Beautiful Things"
DESCRIPTION:A celebration of the simple beauty of being human\, this funny and deeply touching exploration of resilience is based on Cheryl Strayed’s (Wild) journey as the beloved anonymous advice columnist for “Dear Sugar.” Over the years\, thousands of people turned to Sugar for words of wisdom\, compassion and hope. At first unsure\, Sugar finds a way to weave her own life experiences together with the deep yearning and heartrending questions from her readers. It is adapted for the stage by Nia Vardalos\, the Academy Award-nominated writer of “My Big Fat Greek Wedding.” For more details\, visit https://www.theatre2.org.
URL:https://3wmagazine.com/event/tiny-beautiful-things-2021/
CATEGORIES:December,November,October,Sponsored
END:VEVENT
BEGIN:VEVENT
DTSTART;VALUE=DATE:20211117
DTEND;VALUE=DATE:20211118
DTSTAMP:20260421T192450
CREATED:20210127T232721Z
LAST-MODIFIED:20211025T174210Z
UID:1011689-1637107200-1637193599@3wmagazine.com
SUMMARY:***VIRTUAL*** - National Philanthropy Day Luncheon
DESCRIPTION:This event includes an award ceremony recognizing the great contributions of philanthropy in Northwest Arkansas and those who are active in the philanthropic community. The virtual event will be open to the public and free to view online at noon on Nov. 17\, 2021. Viewing information will be available on the AFP Northwest Arkansas Facebook page. For more details\, visit community.afpnet.org/afparnorthwestchapter/home.
URL:https://3wmagazine.com/event/national-philanthropy-day-luncheon-2021/
CATEGORIES:November,Sponsored
ATTACH;FMTTYPE=image/jpeg:https://3wmagazine.com/wp-content/uploads/2021/10/176183932_4437780936250921_4993838297885154689_n.jpg
END:VEVENT
BEGIN:VEVENT
DTSTART;VALUE=DATE:20211117
DTEND;VALUE=DATE:20211213
DTSTAMP:20260421T192450
CREATED:20211028T155652Z
LAST-MODIFIED:20211028T155712Z
UID:1013043-1637107200-1639353599@3wmagazine.com
SUMMARY:"Marie and Rosetta"
DESCRIPTION:Born in Cotton Plant\, Arkansas\, Sister Rosetta Tharpe became a legend\, bringing fierce guitar and swing to gospel music – and blazing a path for Elvis Presley\, Johnny Cash\, Jimi Hendrix and Ray Charles. “Marie and Rosetta” chronicles her first rehearsal with a young protégée\, Marie Knight\, as they prepare for the tour that would establish them as one of the great duos in music history. For more details\, visit https://www.theatre2.org.
URL:https://3wmagazine.com/event/marie-and-rosetta-2021/
CATEGORIES:December,November,Sponsored
END:VEVENT
END:VCALENDAR