BEGIN:VCALENDAR
VERSION:2.0
PRODID:-//3W Magazine - ECPv6.15.20//NONSGML v1.0//EN
CALSCALE:GREGORIAN
METHOD:PUBLISH
X-ORIGINAL-URL:https://3wmagazine.com
X-WR-CALDESC:Events for 3W Magazine
REFRESH-INTERVAL;VALUE=DURATION:PT1H
X-Robots-Tag:noindex
X-PUBLISHED-TTL:PT1H
BEGIN:VTIMEZONE
TZID:America/Denver
BEGIN:DAYLIGHT
TZOFFSETFROM:-0700
TZOFFSETTO:-0600
TZNAME:MDT
DTSTART:20210314T090000
END:DAYLIGHT
BEGIN:STANDARD
TZOFFSETFROM:-0600
TZOFFSETTO:-0700
TZNAME:MST
DTSTART:20211107T080000
END:STANDARD
BEGIN:DAYLIGHT
TZOFFSETFROM:-0700
TZOFFSETTO:-0600
TZNAME:MDT
DTSTART:20220313T090000
END:DAYLIGHT
BEGIN:STANDARD
TZOFFSETFROM:-0600
TZOFFSETTO:-0700
TZNAME:MST
DTSTART:20221106T080000
END:STANDARD
BEGIN:DAYLIGHT
TZOFFSETFROM:-0700
TZOFFSETTO:-0600
TZNAME:MDT
DTSTART:20230312T090000
END:DAYLIGHT
BEGIN:STANDARD
TZOFFSETFROM:-0600
TZOFFSETTO:-0700
TZNAME:MST
DTSTART:20231105T080000
END:STANDARD
END:VTIMEZONE
BEGIN:VEVENT
DTSTART;VALUE=DATE:20220223
DTEND;VALUE=DATE:20220401
DTSTAMP:20260421T164317
CREATED:20220102T033937Z
LAST-MODIFIED:20220131T194414Z
UID:1013166-1645574400-1648771199@3wmagazine.com
SUMMARY:"Tiger Style!"
DESCRIPTION:Squabbling siblings Albert and Jennifer Chen reached the pinnacle of academic achievement. But as adults\, they’re epic failures: he’s just been passed up for promotion and she’s been dumped by her loser boyfriend. So\, they confront their parents and launch an Asian Freedom Tour! From California to China\, this hilarious new comedy examines race\, parenting\, and success with wit and sharp humor. For more details\, visit https://www.theatre2.org/.
URL:https://3wmagazine.com/event/tiger-style-2022/
CATEGORIES:February,March,Sponsored
ATTACH;FMTTYPE=image/png:https://3wmagazine.com/wp-content/uploads/2022/01/22089747_10155801650525127_2749482366740514743_n.png
END:VEVENT
BEGIN:VEVENT
DTSTART;VALUE=DATE:20220224
DTEND;VALUE=DATE:20220228
DTSTAMP:20260421T164317
CREATED:20220102T030753Z
LAST-MODIFIED:20220131T194453Z
UID:1013147-1645660800-1646006399@3wmagazine.com
SUMMARY:"Something Rotten"
DESCRIPTION:Welcome to the Renaissance and the outrageous\, crowd-pleasing musical farce “Something Rotten\,” set in the 1590s. Brothers Nick and Nigel Bottom are desperate to write a hit play but are stuck in the shadow of that Renaissance rock star known as “The Bard.” When a local soothsayer foretells that the future of theatre involves singing\, dancing and acting at the same time\, Nick and Nigel set out to write the world’s very first musical. But amidst the scandalous excitement of opening night\, the Bottom Brothers realize that reaching the top means being true to thine own self\, and all that jazz. For more details\, visit https://www.arkansaspublictheatre.org/.
URL:https://3wmagazine.com/event/something-rotten-week-3-2022/
CATEGORIES:February,Sponsored
ATTACH;FMTTYPE=image/jpeg:https://3wmagazine.com/wp-content/uploads/2022/01/IMG_5096.jpg
END:VEVENT
BEGIN:VEVENT
DTSTART;VALUE=DATE:20220226
DTEND;VALUE=DATE:20220227
DTSTAMP:20260421T164317
CREATED:20220102T034901Z
LAST-MODIFIED:20220127T183709Z
UID:1013169-1645833600-1645919999@3wmagazine.com
SUMMARY:Leading with Excellence Awards Gala
DESCRIPTION:Black Action Collective’s Leading with Excellence Awards Gala on Feb. 26 is a black-tie celebration bringing together over 300 community members and philanthropists to recognize black community leaders for their impact and influence in our community. The event is filled with fun\, food\, collaboration\, music\, and dancing. This year\, Black Action Collective will also recognize its 2021 SURJ Champions at the event. The keynote speaker for the event is James Perkins\, Mayor of Selma\, Alabama. For more details\, visit https://bacnwa.org/.
URL:https://3wmagazine.com/event/leading-with-excellence-awards-gala-2022/
CATEGORIES:February,Sponsored
ATTACH;FMTTYPE=image/png:https://3wmagazine.com/wp-content/uploads/2022/01/2022-Leading-with-Excellence-Flyer-3.png
END:VEVENT
BEGIN:VEVENT
DTSTART;VALUE=DATE:20220226
DTEND;VALUE=DATE:20220227
DTSTAMP:20260421T164317
CREATED:20220102T040227Z
LAST-MODIFIED:20220131T200522Z
UID:1013176-1645833600-1645919999@3wmagazine.com
SUMMARY:Arkansas Miss Amazing 2022
DESCRIPTION:Arkansas Miss Amazing will be Feb. 26 at Bentonville Community Church. The nonprofit provides opportunities for girls and women with disabilities across Arkansas to build self-esteem. For more details\, visit https://missamazing.org/chapters/AR.
URL:https://3wmagazine.com/event/arkansas-miss-amazing-2022/
CATEGORIES:February,Sponsored
ATTACH;FMTTYPE=image/jpeg:https://3wmagazine.com/wp-content/uploads/2022/01/IMG_5097.jpg
END:VEVENT
END:VCALENDAR