BEGIN:VCALENDAR
VERSION:2.0
PRODID:-//3W Magazine - ECPv6.15.20//NONSGML v1.0//EN
CALSCALE:GREGORIAN
METHOD:PUBLISH
X-ORIGINAL-URL:https://3wmagazine.com
X-WR-CALDESC:Events for 3W Magazine
REFRESH-INTERVAL;VALUE=DURATION:PT1H
X-Robots-Tag:noindex
X-PUBLISHED-TTL:PT1H
BEGIN:VTIMEZONE
TZID:America/Denver
BEGIN:DAYLIGHT
TZOFFSETFROM:-0700
TZOFFSETTO:-0600
TZNAME:MDT
DTSTART:20210314T090000
END:DAYLIGHT
BEGIN:STANDARD
TZOFFSETFROM:-0600
TZOFFSETTO:-0700
TZNAME:MST
DTSTART:20211107T080000
END:STANDARD
BEGIN:DAYLIGHT
TZOFFSETFROM:-0700
TZOFFSETTO:-0600
TZNAME:MDT
DTSTART:20220313T090000
END:DAYLIGHT
BEGIN:STANDARD
TZOFFSETFROM:-0600
TZOFFSETTO:-0700
TZNAME:MST
DTSTART:20221106T080000
END:STANDARD
BEGIN:DAYLIGHT
TZOFFSETFROM:-0700
TZOFFSETTO:-0600
TZNAME:MDT
DTSTART:20230312T090000
END:DAYLIGHT
BEGIN:STANDARD
TZOFFSETFROM:-0600
TZOFFSETTO:-0700
TZNAME:MST
DTSTART:20231105T080000
END:STANDARD
END:VTIMEZONE
BEGIN:VEVENT
DTSTART;VALUE=DATE:20220223
DTEND;VALUE=DATE:20220401
DTSTAMP:20260422T002153
CREATED:20220102T033937Z
LAST-MODIFIED:20220131T194414Z
UID:1013166-1645574400-1648771199@3wmagazine.com
SUMMARY:"Tiger Style!"
DESCRIPTION:Squabbling siblings Albert and Jennifer Chen reached the pinnacle of academic achievement. But as adults\, they’re epic failures: he’s just been passed up for promotion and she’s been dumped by her loser boyfriend. So\, they confront their parents and launch an Asian Freedom Tour! From California to China\, this hilarious new comedy examines race\, parenting\, and success with wit and sharp humor. For more details\, visit https://www.theatre2.org/.
URL:https://3wmagazine.com/event/tiger-style-2022/
CATEGORIES:February,March,Sponsored
ATTACH;FMTTYPE=image/png:https://3wmagazine.com/wp-content/uploads/2022/01/22089747_10155801650525127_2749482366740514743_n.png
END:VEVENT
BEGIN:VEVENT
DTSTART;VALUE=DATE:20220310
DTEND;VALUE=DATE:20220313
DTSTAMP:20260422T002153
CREATED:20220301T170749Z
LAST-MODIFIED:20220301T180654Z
UID:1013775-1646870400-1647129599@3wmagazine.com
SUMMARY:Shooting For Scholarships
DESCRIPTION:Shooting For Scholarships is an event hosted by Arkansas Athletes Outreach from March 10-12 in Rogers. Teams will shoot a total of 100 free throws and compete against other teams to make the most baskets and raise the most money. Funds raised will be used toward scholarships for AAO players. For more information\, visit https://www.aaoteam.org/.
URL:https://3wmagazine.com/event/shooting-for-scholarships-2022/
CATEGORIES:March,Sponsored
ATTACH;FMTTYPE=image/jpeg:https://3wmagazine.com/wp-content/uploads/2022/03/Image-3.jpeg
END:VEVENT
END:VCALENDAR