BEGIN:VCALENDAR
VERSION:2.0
PRODID:-//3W Magazine - ECPv6.15.20//NONSGML v1.0//EN
CALSCALE:GREGORIAN
METHOD:PUBLISH
X-WR-CALNAME:3W Magazine
X-ORIGINAL-URL:https://3wmagazine.com
X-WR-CALDESC:Events for 3W Magazine
REFRESH-INTERVAL;VALUE=DURATION:PT1H
X-Robots-Tag:noindex
X-PUBLISHED-TTL:PT1H
BEGIN:VTIMEZONE
TZID:America/Denver
BEGIN:DAYLIGHT
TZOFFSETFROM:-0700
TZOFFSETTO:-0600
TZNAME:MDT
DTSTART:20210314T090000
END:DAYLIGHT
BEGIN:STANDARD
TZOFFSETFROM:-0600
TZOFFSETTO:-0700
TZNAME:MST
DTSTART:20211107T080000
END:STANDARD
BEGIN:DAYLIGHT
TZOFFSETFROM:-0700
TZOFFSETTO:-0600
TZNAME:MDT
DTSTART:20220313T090000
END:DAYLIGHT
BEGIN:STANDARD
TZOFFSETFROM:-0600
TZOFFSETTO:-0700
TZNAME:MST
DTSTART:20221106T080000
END:STANDARD
BEGIN:DAYLIGHT
TZOFFSETFROM:-0700
TZOFFSETTO:-0600
TZNAME:MDT
DTSTART:20230312T090000
END:DAYLIGHT
BEGIN:STANDARD
TZOFFSETFROM:-0600
TZOFFSETTO:-0700
TZNAME:MST
DTSTART:20231105T080000
END:STANDARD
END:VTIMEZONE
BEGIN:VEVENT
DTSTART;VALUE=DATE:20220223
DTEND;VALUE=DATE:20220401
DTSTAMP:20260422T001459
CREATED:20220102T033937Z
LAST-MODIFIED:20220131T194414Z
UID:1013166-1645574400-1648771199@3wmagazine.com
SUMMARY:"Tiger Style!"
DESCRIPTION:Squabbling siblings Albert and Jennifer Chen reached the pinnacle of academic achievement. But as adults\, they’re epic failures: he’s just been passed up for promotion and she’s been dumped by her loser boyfriend. So\, they confront their parents and launch an Asian Freedom Tour! From California to China\, this hilarious new comedy examines race\, parenting\, and success with wit and sharp humor. For more details\, visit https://www.theatre2.org/.
URL:https://3wmagazine.com/event/tiger-style-2022/
CATEGORIES:February,March,Sponsored
ATTACH;FMTTYPE=image/png:https://3wmagazine.com/wp-content/uploads/2022/01/22089747_10155801650525127_2749482366740514743_n.png
END:VEVENT
BEGIN:VEVENT
DTSTART;VALUE=DATE:20220331
DTEND;VALUE=DATE:20220401
DTSTAMP:20260422T001459
CREATED:20220102T235601Z
LAST-MODIFIED:20220301T184001Z
UID:1013189-1648684800-1648771199@3wmagazine.com
SUMMARY:Spring Mentoring Event
DESCRIPTION:The virtual Spring Mentoring Event on March 31 is hosted by NextUp Northwest Arkansas. For more information\, visit https://www.newonline.org/regions/northwest-arkansas.
URL:https://3wmagazine.com/event/spring-mentoring-event-2022/
CATEGORIES:March,Sponsored
ATTACH;FMTTYPE=image/jpeg:https://3wmagazine.com/wp-content/uploads/2022/01/274202155_2214682475341002_1935135133593057766_n.jpg
END:VEVENT
BEGIN:VEVENT
DTSTART;VALUE=DATE:20220331
DTEND;VALUE=DATE:20220401
DTSTAMP:20260422T001459
CREATED:20220103T002048Z
LAST-MODIFIED:20220301T164028Z
UID:1013222-1648684800-1648771199@3wmagazine.com
SUMMARY:Hall of Honor
DESCRIPTION:Fayetteville Public Education Foundation’s Hall of Honor will be March 31\, 2022\, at Fayetteville Public Library. Hall of Honor inductees are Dr. Martha Sharkey\, FHS Class of 1986; John Newman\, FHS Class of 1996; and Barbara Prichard\, Fayetteville Public Schools Educator. Joining for the induction into the 25th Anniversary of the Hall of Honor will be the 2020 honorees: William Storey\, Larry Shackelford and Rocky Tsai. For more information\, visit https://www.fayedfoundation.org.
URL:https://3wmagazine.com/event/hall-of-honor-2022/
CATEGORIES:March,Sponsored
ATTACH;FMTTYPE=image/png:https://3wmagazine.com/wp-content/uploads/2022/03/SAVE_20THE_20DATE_20lunch_20and_20event_20_28Instagram_20Post_29.png
END:VEVENT
BEGIN:VEVENT
DTSTART;VALUE=DATE:20220331
DTEND;VALUE=DATE:20220404
DTSTAMP:20260422T001459
CREATED:20220103T001119Z
LAST-MODIFIED:20220301T183508Z
UID:1013209-1648684800-1649030399@3wmagazine.com
SUMMARY:"Meteor Shower"
DESCRIPTION:This hilarious comedy finds Corky and Norm excited to host Gerald and Laura at their home in the valley outside Los Angeles to watch a once-in-a-lifetime meteor shower. But as the stars come out and the conversation gets rolling\, it becomes clear that Gerald and Laura might not be all that they appear to be. For more information\, visit https://www.arkansaspublictheatre.org.
URL:https://3wmagazine.com/event/meteor-shower-week-2-2022/
CATEGORIES:April,March,Sponsored
ATTACH;FMTTYPE=image/jpeg:https://3wmagazine.com/wp-content/uploads/2022/03/248207470_10159813434394182_6098924914397033169_n.jpg
END:VEVENT
END:VCALENDAR