BEGIN:VCALENDAR
VERSION:2.0
PRODID:-//3W Magazine - ECPv6.15.20//NONSGML v1.0//EN
CALSCALE:GREGORIAN
METHOD:PUBLISH
X-ORIGINAL-URL:https://3wmagazine.com
X-WR-CALDESC:Events for 3W Magazine
REFRESH-INTERVAL;VALUE=DURATION:PT1H
X-Robots-Tag:noindex
X-PUBLISHED-TTL:PT1H
BEGIN:VTIMEZONE
TZID:America/Denver
BEGIN:DAYLIGHT
TZOFFSETFROM:-0700
TZOFFSETTO:-0600
TZNAME:MDT
DTSTART:20210314T090000
END:DAYLIGHT
BEGIN:STANDARD
TZOFFSETFROM:-0600
TZOFFSETTO:-0700
TZNAME:MST
DTSTART:20211107T080000
END:STANDARD
BEGIN:DAYLIGHT
TZOFFSETFROM:-0700
TZOFFSETTO:-0600
TZNAME:MDT
DTSTART:20220313T090000
END:DAYLIGHT
BEGIN:STANDARD
TZOFFSETFROM:-0600
TZOFFSETTO:-0700
TZNAME:MST
DTSTART:20221106T080000
END:STANDARD
BEGIN:DAYLIGHT
TZOFFSETFROM:-0700
TZOFFSETTO:-0600
TZNAME:MDT
DTSTART:20230312T090000
END:DAYLIGHT
BEGIN:STANDARD
TZOFFSETFROM:-0600
TZOFFSETTO:-0700
TZNAME:MST
DTSTART:20231105T080000
END:STANDARD
END:VTIMEZONE
BEGIN:VEVENT
DTSTART;VALUE=DATE:20220401
DTEND;VALUE=DATE:20220423
DTSTAMP:20260421T123331
CREATED:20220103T003336Z
LAST-MODIFIED:20220330T175540Z
UID:1013228-1648771200-1650671999@3wmagazine.com
SUMMARY:Slay the Distance
DESCRIPTION:Slay the Distance will be from April 1-22. Cost will be $100 per family (up to 6 participants) and St. Vincent de Paul Catholic School will collect your walking/biking/running/swimming mileage for the total group. Then on April 23 at 10 a.m.\, at the SVdP school playground\, there will be a kids’ fun run\, prize announcements\, and T-shirt & snack handouts. For more details\, visit https://svdpschool.net/.
URL:https://3wmagazine.com/event/slay-the-distance-2022/
CATEGORIES:April,Sponsored
END:VEVENT
BEGIN:VEVENT
DTSTART;VALUE=DATE:20220401
DTEND;VALUE=DATE:20220501
DTSTAMP:20260421T123331
CREATED:20220103T003610Z
LAST-MODIFIED:20220330T175254Z
UID:1013231-1648771200-1651363199@3wmagazine.com
SUMMARY:Virtual Pet Stampede
DESCRIPTION:Lace up your shoes and leash up your pets for Circle of Life’s 2022 Pet Stampede! This fun virtual walk will take place during the month of April from the comfort of your own home. There is no limit on how long or far to walk: enjoy the time with your family and pets! Proceeds will benefit the Circle of Life’s Pet Peace of Mind program. Pet Peace of Mind enriches the quality of life for our hospice patients and the pets they love by helping with vet appointments\, walks\, feeding\, and foster care if needed. To sign up\, visit https://runsignup.com/PetStampede.
URL:https://3wmagazine.com/event/virtual-pet-stampede-2022/
CATEGORIES:April,Sponsored
ATTACH;FMTTYPE=image/jpeg:https://3wmagazine.com/wp-content/uploads/2022/01/Image-4.jpeg
END:VEVENT
BEGIN:VEVENT
DTSTART;VALUE=DATE:20220413
DTEND;VALUE=DATE:20220509
DTSTAMP:20260421T123331
CREATED:20220103T015841Z
LAST-MODIFIED:20220401T044333Z
UID:1013262-1649808000-1652054399@3wmagazine.com
SUMMARY:"The Elaborate Entrance of Chad Deity"
DESCRIPTION:Think pro-wrestling is all outrageous masks and pyrotechnics? Think again – there’s so much more in this fresh\, funny\, and high-octane Pulitzer Prize finalist that transforms the West Theatre into an in-the-round arena. “The Elaborate Entrance of Chad Deity” slams together thrilling spectacle\, incredible characters\, and geopolitical allegory into an invigorating theatrical experience you can’t find on pay-per-view. This smackdown of a play tackles racism\, drop-kicks globalization\, and brings a championship tale into the ring. In wrestling\, as in life\, behind every winner lies the story of a really excellent loser. This play contains adult language and themes\, strobe effects\, and haze. For more details\, visit https://www.theatre2.org/.
URL:https://3wmagazine.com/event/the-elaborate-entrance-of-chad-deity-2022/
CATEGORIES:April,May,Sponsored
ATTACH;FMTTYPE=image/png:https://3wmagazine.com/wp-content/uploads/2019/12/TheatreSquared-2020-calendar-logo.png
END:VEVENT
BEGIN:VEVENT
DTSTART;VALUE=DATE:20220421
DTEND;VALUE=DATE:20220422
DTSTAMP:20260421T123331
CREATED:20220103T020123Z
LAST-MODIFIED:20220331T160920Z
UID:1013265-1650499200-1650585599@3wmagazine.com
SUMMARY:Wall of Distinction Banquet
DESCRIPTION:Rogers Public Education Foundation’s Wall of Distinction Banquet is April 21 at Rogers Convention Center. For more details\, visit https://www.rogerspef.com/wallofdistinction.
URL:https://3wmagazine.com/event/wall-of-distinction-banquet-2022/
CATEGORIES:April,Sponsored
ATTACH;FMTTYPE=image/jpeg:https://3wmagazine.com/wp-content/uploads/2022/03/274377937_10158547557475869_1398412938664812630_n.jpg
END:VEVENT
BEGIN:VEVENT
DTSTART;VALUE=DATE:20220421
DTEND;VALUE=DATE:20220422
DTSTAMP:20260421T123331
CREATED:20220103T020341Z
LAST-MODIFIED:20220330T153221Z
UID:1013268-1650499200-1650585599@3wmagazine.com
SUMMARY:Spring Connect
DESCRIPTION:The Spring Connect on April 21 will be hosted by NextUp Northwest Arkansas. For more details\, visit https://www.newonline.org/regions/northwest-arkansas.
URL:https://3wmagazine.com/event/spring-mixer-2022/
CATEGORIES:April,Sponsored
END:VEVENT
BEGIN:VEVENT
DTSTART;VALUE=DATE:20220421
DTEND;VALUE=DATE:20220422
DTSTAMP:20260421T123331
CREATED:20220103T022056Z
LAST-MODIFIED:20220328T164553Z
UID:1013286-1650499200-1650585599@3wmagazine.com
SUMMARY:Stand Up for Hunger
DESCRIPTION:Join NWA Food Bank for a night full of laughs with Dusty Slay at the annual Stand Up For Hunger event at The Grove Comedy Club in Lowell. All proceeds will benefit the Northwest Arkansas Food Bank. For more details\, visit https://www.nwafoodbank.org/.
URL:https://3wmagazine.com/event/stand-up-for-hunger-2022/
CATEGORIES:April,Sponsored
ATTACH;FMTTYPE=image/jpeg:https://3wmagazine.com/wp-content/uploads/2022/01/273914653_5248198348547178_8422251611218456399_n.jpg
END:VEVENT
END:VCALENDAR