BEGIN:VCALENDAR
VERSION:2.0
PRODID:-//3W Magazine - ECPv6.15.20//NONSGML v1.0//EN
CALSCALE:GREGORIAN
METHOD:PUBLISH
X-WR-CALNAME:3W Magazine
X-ORIGINAL-URL:https://3wmagazine.com
X-WR-CALDESC:Events for 3W Magazine
REFRESH-INTERVAL;VALUE=DURATION:PT1H
X-Robots-Tag:noindex
X-PUBLISHED-TTL:PT1H
BEGIN:VTIMEZONE
TZID:America/Denver
BEGIN:DAYLIGHT
TZOFFSETFROM:-0700
TZOFFSETTO:-0600
TZNAME:MDT
DTSTART:20210314T090000
END:DAYLIGHT
BEGIN:STANDARD
TZOFFSETFROM:-0600
TZOFFSETTO:-0700
TZNAME:MST
DTSTART:20211107T080000
END:STANDARD
BEGIN:DAYLIGHT
TZOFFSETFROM:-0700
TZOFFSETTO:-0600
TZNAME:MDT
DTSTART:20220313T090000
END:DAYLIGHT
BEGIN:STANDARD
TZOFFSETFROM:-0600
TZOFFSETTO:-0700
TZNAME:MST
DTSTART:20221106T080000
END:STANDARD
BEGIN:DAYLIGHT
TZOFFSETFROM:-0700
TZOFFSETTO:-0600
TZNAME:MDT
DTSTART:20230312T090000
END:DAYLIGHT
BEGIN:STANDARD
TZOFFSETFROM:-0600
TZOFFSETTO:-0700
TZNAME:MST
DTSTART:20231105T080000
END:STANDARD
END:VTIMEZONE
BEGIN:VEVENT
DTSTART;VALUE=DATE:20220413
DTEND;VALUE=DATE:20220509
DTSTAMP:20260422T204825
CREATED:20220103T015841Z
LAST-MODIFIED:20220401T044333Z
UID:1013262-1649808000-1652054399@3wmagazine.com
SUMMARY:"The Elaborate Entrance of Chad Deity"
DESCRIPTION:Think pro-wrestling is all outrageous masks and pyrotechnics? Think again – there’s so much more in this fresh\, funny\, and high-octane Pulitzer Prize finalist that transforms the West Theatre into an in-the-round arena. “The Elaborate Entrance of Chad Deity” slams together thrilling spectacle\, incredible characters\, and geopolitical allegory into an invigorating theatrical experience you can’t find on pay-per-view. This smackdown of a play tackles racism\, drop-kicks globalization\, and brings a championship tale into the ring. In wrestling\, as in life\, behind every winner lies the story of a really excellent loser. This play contains adult language and themes\, strobe effects\, and haze. For more details\, visit https://www.theatre2.org/.
URL:https://3wmagazine.com/event/the-elaborate-entrance-of-chad-deity-2022/
CATEGORIES:April,May,Sponsored
ATTACH;FMTTYPE=image/png:https://3wmagazine.com/wp-content/uploads/2019/12/TheatreSquared-2020-calendar-logo.png
END:VEVENT
BEGIN:VEVENT
DTSTART;VALUE=DATE:20220505
DTEND;VALUE=DATE:20220508
DTSTAMP:20260422T204825
CREATED:20220502T031206Z
LAST-MODIFIED:20220502T054940Z
UID:1014071-1651708800-1651967999@3wmagazine.com
SUMMARY:Hanging Basket Sale 2022
DESCRIPTION:The Peel Compton Foundation Hanging Basket Sale is May 5-7 at Peel Museum and Botanical Garden. Featuring a variety of ferns\, greenery\, and both shade- and sun-loving blooms just in time for Mother’s Day\, these locally-grown baskets are the perfect gift for the mother in your life (or any plant lover!). All baskets are priced at $20 each. Shop online and reserve your order at https://www.peelcompton.org/shop/ then pick up at Peel Museum & Botanical Garden. Pick up times: 8 a.m. to 1 p.m. May 5-6 and 10 a.m. to noon May 7. For more information\, visit https://www.peelcompton.org/. \n 
URL:https://3wmagazine.com/event/hanging-basket-sale-2022/
CATEGORIES:May,Sponsored
ATTACH;FMTTYPE=image/jpeg:https://3wmagazine.com/wp-content/uploads/2022/05/IMG_6912-1.jpg
END:VEVENT
BEGIN:VEVENT
DTSTART;VALUE=DATE:20220506
DTEND;VALUE=DATE:20220508
DTSTAMP:20260422T204825
CREATED:20220103T032957Z
LAST-MODIFIED:20220502T032954Z
UID:1013317-1651795200-1651967999@3wmagazine.com
SUMMARY:"The Revolutionists"
DESCRIPTION:Four beautiful\, badass women lose their heads in this irreverent\, girl-powered comedy set during the French Revolution’s Reign of Terror. Playwright Olympe de Gouges\, assassin Charlotte Corday\, former queen (and fan of ribbons) Marie Antoinette\, and Haitian rebel Marianne Angelle hang out\, murder Marat\, and try to beat back the extremist insanity in 1793 Paris. This grand and dream-tweaked comedy is about violence and legacy\, art and activism\, feminism and terrorism\, compatriots and chosen sisters\, and how we actually go about changing the world. It’s a true story. Or total fiction. Or a play about a play. Or a raucous resurrection…that ends in a song and a scaffold. For more details\, visit https://www.arkansaspublictheatre.org.
URL:https://3wmagazine.com/event/the-revolutionists-week-1-2022/
CATEGORIES:May,Sponsored
ATTACH;FMTTYPE=image/jpeg:https://3wmagazine.com/wp-content/uploads/2022/01/IMG_6909.jpg
END:VEVENT
BEGIN:VEVENT
DTSTART;VALUE=DATE:20220507
DTEND;VALUE=DATE:20220508
DTSTAMP:20260422T204825
CREATED:20220103T033415Z
LAST-MODIFIED:20220502T034025Z
UID:1013323-1651881600-1651967999@3wmagazine.com
SUMMARY:Heather Ridley-Fleeman Battle for Hope
DESCRIPTION:Held annually on the first Saturday in May\, the Heather Ridley-Fleeman Battle for Hope\nbrings together hundreds of participants. This event includes a 10K run\, 5K run and walk\,\nand this year\, a silent auction. Learn more at https://www.heathersraceforhope.com/.
URL:https://3wmagazine.com/event/heather-ridley-fleeman-battle-for-hope-2022/
CATEGORIES:May,Sponsored
ATTACH;FMTTYPE=image/jpeg:https://3wmagazine.com/wp-content/uploads/2022/01/IMG_6911.jpg
END:VEVENT
BEGIN:VEVENT
DTSTART;VALUE=DATE:20220507
DTEND;VALUE=DATE:20220508
DTSTAMP:20260422T204825
CREATED:20220103T033615Z
LAST-MODIFIED:20220421T151343Z
UID:1013326-1651881600-1651967999@3wmagazine.com
SUMMARY:Walk for Wishes NWA
DESCRIPTION:
URL:https://3wmagazine.com/event/walk-for-wishes-nwa-2022/
CATEGORIES:May,Sponsored
ATTACH;FMTTYPE=image/png:https://3wmagazine.com/wp-content/uploads/2022/01/Walk_For_Wishes_2022_Digital_Flyer-copy.png
END:VEVENT
BEGIN:VEVENT
DTSTART;VALUE=DATE:20220507
DTEND;VALUE=DATE:20220508
DTSTAMP:20260422T204825
CREATED:20220103T033850Z
LAST-MODIFIED:20220502T034733Z
UID:1013329-1651881600-1651967999@3wmagazine.com
SUMMARY:HWOA Annual Cinco de Mayo Festival
DESCRIPTION:The Hispanic Women’s Organization of Arkansas (HWOA) is pleased to announce its 24th annual Cinco de Mayo Festival to be held Saturday\, May 7\, 2022 from noon to 7 p.m. at the Jones Center in Springdale. \nRich in tradition\, this fun and festive celebration reflects the organization’s motto of “Celebrating Education\, Culture and Community.” Proceeds from the festival benefit the HWOA Scholarship Fund. “The Cinco de Mayo Festival is an excellent opportunity for community interaction and a celebration of culture\nand education\,” said Margarita Solorzano\, executive director of HWOA. “The festival not only\nshowcases Latino cultures but it also brings the community together in support of higher\neducation for Latino students.” \nSince its inception in 2000\, HWOA has awarded 529 scholarships to Hispanic students\, with a\nvalue ranging from $500 to $5\,000 per scholarship\, of which many recipients are first generation\ncollege students. HWOA’s goal is to increase college enrollment opportunities for Hispanic\nstudents. The scholarship award presentation will take place during the Festival at 6 p.m. \nThe Cinco de Mayo Festival is a community event\, free to the public\, with live music\, traditional\nfolk dance performances from different countries\, food\, games\, vendors\, children’s activities\,\nZumba\, health fair and much more. The festival is family-oriented\, giving local performers the\nopportunity to showcase their diverse talents. Come have fun and support the HWOA\nScholarship Fund! \nFor more details\, visit https://www.hwoa.org/.
URL:https://3wmagazine.com/event/hwoa-annual-cinco-de-mayo-festival-2022/
CATEGORIES:May,Sponsored
ATTACH;FMTTYPE=image/png:https://3wmagazine.com/wp-content/uploads/2022/01/HWOA-Cinco-de-Mayo-2022-11x17-flyer-english-copy.png
END:VEVENT
END:VCALENDAR