BEGIN:VCALENDAR
VERSION:2.0
PRODID:-//3W Magazine - ECPv6.15.20//NONSGML v1.0//EN
CALSCALE:GREGORIAN
METHOD:PUBLISH
X-WR-CALNAME:3W Magazine
X-ORIGINAL-URL:https://3wmagazine.com
X-WR-CALDESC:Events for 3W Magazine
REFRESH-INTERVAL;VALUE=DURATION:PT1H
X-Robots-Tag:noindex
X-PUBLISHED-TTL:PT1H
BEGIN:VTIMEZONE
TZID:America/Denver
BEGIN:DAYLIGHT
TZOFFSETFROM:-0700
TZOFFSETTO:-0600
TZNAME:MDT
DTSTART:20210314T090000
END:DAYLIGHT
BEGIN:STANDARD
TZOFFSETFROM:-0600
TZOFFSETTO:-0700
TZNAME:MST
DTSTART:20211107T080000
END:STANDARD
BEGIN:DAYLIGHT
TZOFFSETFROM:-0700
TZOFFSETTO:-0600
TZNAME:MDT
DTSTART:20220313T090000
END:DAYLIGHT
BEGIN:STANDARD
TZOFFSETFROM:-0600
TZOFFSETTO:-0700
TZNAME:MST
DTSTART:20221106T080000
END:STANDARD
BEGIN:DAYLIGHT
TZOFFSETFROM:-0700
TZOFFSETTO:-0600
TZNAME:MDT
DTSTART:20230312T090000
END:DAYLIGHT
BEGIN:STANDARD
TZOFFSETFROM:-0600
TZOFFSETTO:-0700
TZNAME:MST
DTSTART:20231105T080000
END:STANDARD
END:VTIMEZONE
BEGIN:VEVENT
DTSTART;VALUE=DATE:20220802
DTEND;VALUE=DATE:20220803
DTSTAMP:20260421T170946
CREATED:20220707T172030Z
LAST-MODIFIED:20220728T164153Z
UID:1014531-1659398400-1659484799@3wmagazine.com
SUMMARY:***POSTPONED*** - All for One
DESCRIPTION:***POSTPONED*** – All for One\, hosted by Healing Hands of Mercy Foundation and Richmond Street Fundraising\, is a gathering of nonprofits in Northwest at 6 p.m. Aug. 2 at Fairlane Station in Springdale. The evening includes book signings\, chair massages\, outreach opportunities\, drinks and food trucks. Free for nonprofit representatives to attend. For more information\, visit https://www.eventbrite.com/e/364034305407.
URL:https://3wmagazine.com/event/all-for-one-2022/
LOCATION:Fairlane Station\, 108 Graham St.\, Springdale\, AR\, United States
CATEGORIES:August,Sponsored
ATTACH;FMTTYPE=image/png:https://3wmagazine.com/wp-content/uploads/2022/07/All-for-One-1.png
END:VEVENT
BEGIN:VEVENT
DTSTART;VALUE=DATE:20220802
DTEND;VALUE=DATE:20220803
DTSTAMP:20260421T170946
CREATED:20220727T153717Z
LAST-MODIFIED:20220727T154748Z
UID:1014637-1659398400-1659484799@3wmagazine.com
SUMMARY:Dick Daniel Distinguished Citizen Award Luncheon
DESCRIPTION:Rogers Rotary has always been blessed to have citizens who have stepped forward to make our community a better place to live. This year Rogers Rotary will again recognize another one of our citizens with our Dick Daniel Distinguished Citizen Award. The Dick Daniel Distinguished Citizen Award recognizes and honors individuals who strive toward the highest level of community involvement\, influence\, and dedication of time and energies toward making our community a better place to live. Distinguished Citizen nominees must meet each of these three specific criteria: 1. Demonstrated excellence\, creativity and initiative in improving the community. 2. Provided valuable service by devoting time and energy to improving the quality of life for others in the community. 3. Assisted others in developing and utilizing their full leadership potential in the community. Raymond Burns more than meets the criteria for the award and Rogers Rotary club is excited to recognize him as the outstanding leader he is. \nRaymond Burns will be recognized at the annual Dick Daniel Distinguished Citizen Award Luncheon on Aug. 2\, 2022\, held at Embassy Suites in Rogers. Rogers Rotary Foundation will use proceeds from the event to provide funding for The Children’s Advocacy Center of Benton County (CAC). The CAC provides a safe place for child abuse victims and their families to receive comprehensive services from dedicated professionals in a child-friendly atmosphere through a coordinated team approach. At the CAC\, children are empowered to find their voice for the ultimate vision of eliminating child abuse and cultivating a safe community for children and their families. \nFor tickets\, visit https://www.eventbrite.com/e/rogers-rotary-club-dick-daniel-distinguished-citizen-award-tickets-156011429385.
URL:https://3wmagazine.com/event/dick-daniel-distinguished-citizen-award-luncheon-2022/
CATEGORIES:August,Sponsored
ATTACH;FMTTYPE=image/png:https://3wmagazine.com/wp-content/uploads/2022/07/Screen-Shot-2022-07-27-at-10.36.00-AM.png
END:VEVENT
END:VCALENDAR