BEGIN:VCALENDAR
VERSION:2.0
PRODID:-//3W Magazine - ECPv6.15.20//NONSGML v1.0//EN
CALSCALE:GREGORIAN
METHOD:PUBLISH
X-WR-CALNAME:3W Magazine
X-ORIGINAL-URL:https://3wmagazine.com
X-WR-CALDESC:Events for 3W Magazine
REFRESH-INTERVAL;VALUE=DURATION:PT1H
X-Robots-Tag:noindex
X-PUBLISHED-TTL:PT1H
BEGIN:VTIMEZONE
TZID:America/Denver
BEGIN:DAYLIGHT
TZOFFSETFROM:-0700
TZOFFSETTO:-0600
TZNAME:MDT
DTSTART:20210314T090000
END:DAYLIGHT
BEGIN:STANDARD
TZOFFSETFROM:-0600
TZOFFSETTO:-0700
TZNAME:MST
DTSTART:20211107T080000
END:STANDARD
BEGIN:DAYLIGHT
TZOFFSETFROM:-0700
TZOFFSETTO:-0600
TZNAME:MDT
DTSTART:20220313T090000
END:DAYLIGHT
BEGIN:STANDARD
TZOFFSETFROM:-0600
TZOFFSETTO:-0700
TZNAME:MST
DTSTART:20221106T080000
END:STANDARD
BEGIN:DAYLIGHT
TZOFFSETFROM:-0700
TZOFFSETTO:-0600
TZNAME:MDT
DTSTART:20230312T090000
END:DAYLIGHT
BEGIN:STANDARD
TZOFFSETFROM:-0600
TZOFFSETTO:-0700
TZNAME:MST
DTSTART:20231105T080000
END:STANDARD
END:VTIMEZONE
BEGIN:VEVENT
DTSTART;VALUE=DATE:20220811
DTEND;VALUE=DATE:20220815
DTSTAMP:20260422T182019
CREATED:20220103T050359Z
LAST-MODIFIED:20220701T052508Z
UID:1013440-1660176000-1660521599@3wmagazine.com
SUMMARY:"DISASTER!"
DESCRIPTION:It’s 1979\, and New York’s hottest A-listers are lining up for the opening of a floating casino and discotheque. Also attending is a faded disco star\, a sexy nightclub singer with her eleven-year-old twins\, a disaster expert\, a feminist reporter\, an older couple with a secret\, a pair of young guys who are looking for ladies\, an untrustworthy businessman and a nun with a gambling addiction. What begins as a night of boogie fever quickly changes to panic as the ship succumbs to multiple disasters\, such as earthquakes\, tidal waves and infernos. As the night turns into day\, everyone struggles to survive and\, quite possibly\, repair the love that they have lost… or at least escape the killer rats.  Audiences and critics are wild for this hilarious homage to the era of bell-bottoms\, platform shoes and the hustle. Featuring some of the most unforgettable songs of the ’70s. “Knock on Wood\,” “Hooked on a Feeling\,” “Sky High\,” “I Am Woman” and “Hot Stuff.” For more details\, visit https://www.arkansaspublictheatre.org/.
URL:https://3wmagazine.com/event/disaster-week-3-2022/
CATEGORIES:August,Sponsored
ATTACH;FMTTYPE=image/png:https://3wmagazine.com/wp-content/uploads/2022/01/IMG_9262.png
END:VEVENT
END:VCALENDAR