BEGIN:VCALENDAR
VERSION:2.0
PRODID:-//3W Magazine - ECPv6.15.20//NONSGML v1.0//EN
CALSCALE:GREGORIAN
METHOD:PUBLISH
X-WR-CALNAME:3W Magazine
X-ORIGINAL-URL:https://3wmagazine.com
X-WR-CALDESC:Events for 3W Magazine
REFRESH-INTERVAL;VALUE=DURATION:PT1H
X-Robots-Tag:noindex
X-PUBLISHED-TTL:PT1H
BEGIN:VTIMEZONE
TZID:America/Denver
BEGIN:DAYLIGHT
TZOFFSETFROM:-0700
TZOFFSETTO:-0600
TZNAME:MDT
DTSTART:20210314T090000
END:DAYLIGHT
BEGIN:STANDARD
TZOFFSETFROM:-0600
TZOFFSETTO:-0700
TZNAME:MST
DTSTART:20211107T080000
END:STANDARD
BEGIN:DAYLIGHT
TZOFFSETFROM:-0700
TZOFFSETTO:-0600
TZNAME:MDT
DTSTART:20220313T090000
END:DAYLIGHT
BEGIN:STANDARD
TZOFFSETFROM:-0600
TZOFFSETTO:-0700
TZNAME:MST
DTSTART:20221106T080000
END:STANDARD
BEGIN:DAYLIGHT
TZOFFSETFROM:-0700
TZOFFSETTO:-0600
TZNAME:MDT
DTSTART:20230312T090000
END:DAYLIGHT
BEGIN:STANDARD
TZOFFSETFROM:-0600
TZOFFSETTO:-0700
TZNAME:MST
DTSTART:20231105T080000
END:STANDARD
END:VTIMEZONE
BEGIN:VEVENT
DTSTART;VALUE=DATE:20221003
DTEND;VALUE=DATE:20221004
DTSTAMP:20260422T164045
CREATED:20220103T190256Z
LAST-MODIFIED:20220927T173503Z
UID:1013496-1664755200-1664841599@3wmagazine.com
SUMMARY:The Golf Event
DESCRIPTION:The Golf Event is one of The Jones Center’s longest-running special events. Each year\, the tournament features a variety of hole contests\, premium prizes\, snacks/beverages on the course\, and a sit-down Luncheon. Proceeds from The Golf Event support youth and family programming at The Jones Center. To learn more\, contact Ali Taylor at ataylor@jonesnet.org or 479.756.8090 (ext. 2139).
URL:https://3wmagazine.com/event/the-golf-event-2022/
LOCATION:Fayetteville Country Club\, Fayetteville\, AR\, United States
CATEGORIES:October,Sponsored
ATTACH;FMTTYPE=image/png:https://3wmagazine.com/wp-content/uploads/2021/07/The-Jones-Center-600-x-400-logo.png
END:VEVENT
END:VCALENDAR