BEGIN:VCALENDAR
VERSION:2.0
PRODID:-//3W Magazine - ECPv6.15.20//NONSGML v1.0//EN
CALSCALE:GREGORIAN
METHOD:PUBLISH
X-ORIGINAL-URL:https://3wmagazine.com
X-WR-CALDESC:Events for 3W Magazine
REFRESH-INTERVAL;VALUE=DURATION:PT1H
X-Robots-Tag:noindex
X-PUBLISHED-TTL:PT1H
BEGIN:VTIMEZONE
TZID:America/Denver
BEGIN:DAYLIGHT
TZOFFSETFROM:-0700
TZOFFSETTO:-0600
TZNAME:MDT
DTSTART:20210314T090000
END:DAYLIGHT
BEGIN:STANDARD
TZOFFSETFROM:-0600
TZOFFSETTO:-0700
TZNAME:MST
DTSTART:20211107T080000
END:STANDARD
BEGIN:DAYLIGHT
TZOFFSETFROM:-0700
TZOFFSETTO:-0600
TZNAME:MDT
DTSTART:20220313T090000
END:DAYLIGHT
BEGIN:STANDARD
TZOFFSETFROM:-0600
TZOFFSETTO:-0700
TZNAME:MST
DTSTART:20221106T080000
END:STANDARD
BEGIN:DAYLIGHT
TZOFFSETFROM:-0700
TZOFFSETTO:-0600
TZNAME:MDT
DTSTART:20230312T090000
END:DAYLIGHT
BEGIN:STANDARD
TZOFFSETFROM:-0600
TZOFFSETTO:-0700
TZNAME:MST
DTSTART:20231105T080000
END:STANDARD
END:VTIMEZONE
BEGIN:VEVENT
DTSTART;VALUE=DATE:20221006
DTEND;VALUE=DATE:20221008
DTSTAMP:20260422T151513
CREATED:20220927T165345Z
LAST-MODIFIED:20220927T165359Z
UID:1014890-1665014400-1665187199@3wmagazine.com
SUMMARY:Northwest Arkansas Finest and Wine Opener
DESCRIPTION:The celebration will begin with golf on Oct. 6 and 7 at Shadow Valley Country Club in Rogers\, including 8 a.m. and 1 p.m. shotgun starts with great food\, libations\, games and so much more. The Wine Opener will be Oct. 7 at Heroncrest Event Center in Springdale. It’s a party like no other with wine tasting\, cocktails\, beer and food tastings from the area’s top restaurants and caterers. Festivities will include celebrating our Finest Honorees\, entertainment\, exciting live auction\, and an incredible week-long online silent auction. For more information\, visit https://finest.cff.org/NWAFinestWineOpener22.
URL:https://3wmagazine.com/event/northwest-arkansas-finest-and-wine-opener-2022/
CATEGORIES:October,Sponsored
ATTACH;FMTTYPE=image/png:https://3wmagazine.com/wp-content/uploads/2022/09/294641729_4952477661524544_1477984729145365788_n.png
END:VEVENT
BEGIN:VEVENT
DTSTART;VALUE=DATE:20221006
DTEND;VALUE=DATE:20221009
DTSTAMP:20260422T151513
CREATED:20220103T190440Z
LAST-MODIFIED:20220927T173012Z
UID:1013499-1665014400-1665273599@3wmagazine.com
SUMMARY:CF Outdoor Invitational
DESCRIPTION:Join Mercy Health Foundation NWA for the 12th annual CF Outdoor Invitational Oct. 6-8\, benefiting the Mercy Adult Cystic Fibrosis Clinic. This celebration is a three-day event you don’t want to miss! Experience two days of guided fly fishing and clay shooting competition all rolled into one fabulous event at Spring Valley Rod & Gun Club. You’ll also enjoy auctions and delicious food at the most unique fishing and shooting event Northwest Arkansas has to offer. For more details\, visit https://mercyhealthfoundation.net/communities/nwa/.
URL:https://3wmagazine.com/event/cf-outdoor-invitational-2022/
CATEGORIES:October,Sponsored
ATTACH;FMTTYPE=image/png:https://3wmagazine.com/wp-content/uploads/2021/04/Mercy-graphic-logo-800x800-1.png
END:VEVENT
BEGIN:VEVENT
DTSTART;VALUE=DATE:20221007
DTEND;VALUE=DATE:20221008
DTSTAMP:20260422T151513
CREATED:20220103T190911Z
LAST-MODIFIED:20220927T163851Z
UID:1013505-1665100800-1665187199@3wmagazine.com
SUMMARY:Mobil 1 Fall Classic
DESCRIPTION:Swinging into great futures! Join Boys & Girls Club of Benton County for a unique fundraising event Oct. 7 at Topgolf\, engaging golfers and non-golfers alike to raise funds for the nonprofit. Guests will have an opportunity to engage in Topgolf tournament play in groups of three or more and enjoy a delicious breakfast bar. For more information\, visit https://www.bgcbentoncounty.org/.
URL:https://3wmagazine.com/event/mobil-1-fall-classic-2022/
LOCATION:Topgolf\, 3919 S. JB Hunt Drive\, Rogers\, AR\, 72758\, United States
CATEGORIES:October,Sponsored
ATTACH;FMTTYPE=image/png:https://3wmagazine.com/wp-content/uploads/2018/12/Boys-Girls-Club-of-Benton-County-calendar-logo.png
END:VEVENT
BEGIN:VEVENT
DTSTART;VALUE=DATE:20221007
DTEND;VALUE=DATE:20221010
DTSTAMP:20260422T151513
CREATED:20220103T191133Z
LAST-MODIFIED:20220927T175235Z
UID:1013508-1665100800-1665359999@3wmagazine.com
SUMMARY:Vintage Market Days
DESCRIPTION:Vintage Market Days Oct. 7-9 at Benton County Fairgrounds. Vintage Market Days is an upscale vintage-inspired market featuring original art\, antiques\, clothing\, jewelry\, handmade treasures\, home décor\, outdoor furnishings consumable yummies\, seasonal plantings and a little more. Each Vintage Market Days event is a unique opportunity for vendors to display their talents and passions in different venues. For more details\, visit https://vintagemarketdays.com/market/nw-arkansas/.
URL:https://3wmagazine.com/event/vintage-market-days-fall-2022/
LOCATION:Benton County Fairgrounds\, 7640 SW Regional Airport Blvd.\, Bentonville\, AR\, United States
CATEGORIES:October,Sponsored
ATTACH;FMTTYPE=image/jpeg:https://3wmagazine.com/wp-content/uploads/2022/09/211520-640.jpg
END:VEVENT
END:VCALENDAR