BEGIN:VCALENDAR
VERSION:2.0
PRODID:-//3W Magazine - ECPv6.15.20//NONSGML v1.0//EN
CALSCALE:GREGORIAN
METHOD:PUBLISH
X-WR-CALNAME:3W Magazine
X-ORIGINAL-URL:https://3wmagazine.com
X-WR-CALDESC:Events for 3W Magazine
REFRESH-INTERVAL;VALUE=DURATION:PT1H
X-Robots-Tag:noindex
X-PUBLISHED-TTL:PT1H
BEGIN:VTIMEZONE
TZID:America/Denver
BEGIN:DAYLIGHT
TZOFFSETFROM:-0700
TZOFFSETTO:-0600
TZNAME:MDT
DTSTART:20210314T090000
END:DAYLIGHT
BEGIN:STANDARD
TZOFFSETFROM:-0600
TZOFFSETTO:-0700
TZNAME:MST
DTSTART:20211107T080000
END:STANDARD
BEGIN:DAYLIGHT
TZOFFSETFROM:-0700
TZOFFSETTO:-0600
TZNAME:MDT
DTSTART:20220313T090000
END:DAYLIGHT
BEGIN:STANDARD
TZOFFSETFROM:-0600
TZOFFSETTO:-0700
TZNAME:MST
DTSTART:20221106T080000
END:STANDARD
BEGIN:DAYLIGHT
TZOFFSETFROM:-0700
TZOFFSETTO:-0600
TZNAME:MDT
DTSTART:20230312T090000
END:DAYLIGHT
BEGIN:STANDARD
TZOFFSETFROM:-0600
TZOFFSETTO:-0700
TZNAME:MST
DTSTART:20231105T080000
END:STANDARD
END:VTIMEZONE
BEGIN:VEVENT
DTSTART;VALUE=DATE:20221006
DTEND;VALUE=DATE:20221009
DTSTAMP:20260422T064221
CREATED:20220103T190440Z
LAST-MODIFIED:20220927T173012Z
UID:1013499-1665014400-1665273599@3wmagazine.com
SUMMARY:CF Outdoor Invitational
DESCRIPTION:Join Mercy Health Foundation NWA for the 12th annual CF Outdoor Invitational Oct. 6-8\, benefiting the Mercy Adult Cystic Fibrosis Clinic. This celebration is a three-day event you don’t want to miss! Experience two days of guided fly fishing and clay shooting competition all rolled into one fabulous event at Spring Valley Rod & Gun Club. You’ll also enjoy auctions and delicious food at the most unique fishing and shooting event Northwest Arkansas has to offer. For more details\, visit https://mercyhealthfoundation.net/communities/nwa/.
URL:https://3wmagazine.com/event/cf-outdoor-invitational-2022/
CATEGORIES:October,Sponsored
ATTACH;FMTTYPE=image/png:https://3wmagazine.com/wp-content/uploads/2021/04/Mercy-graphic-logo-800x800-1.png
END:VEVENT
BEGIN:VEVENT
DTSTART;VALUE=DATE:20221007
DTEND;VALUE=DATE:20221010
DTSTAMP:20260422T064221
CREATED:20220103T191133Z
LAST-MODIFIED:20220927T175235Z
UID:1013508-1665100800-1665359999@3wmagazine.com
SUMMARY:Vintage Market Days
DESCRIPTION:Vintage Market Days Oct. 7-9 at Benton County Fairgrounds. Vintage Market Days is an upscale vintage-inspired market featuring original art\, antiques\, clothing\, jewelry\, handmade treasures\, home décor\, outdoor furnishings consumable yummies\, seasonal plantings and a little more. Each Vintage Market Days event is a unique opportunity for vendors to display their talents and passions in different venues. For more details\, visit https://vintagemarketdays.com/market/nw-arkansas/.
URL:https://3wmagazine.com/event/vintage-market-days-fall-2022/
LOCATION:Benton County Fairgrounds\, 7640 SW Regional Airport Blvd.\, Bentonville\, AR\, United States
CATEGORIES:October,Sponsored
ATTACH;FMTTYPE=image/jpeg:https://3wmagazine.com/wp-content/uploads/2022/09/211520-640.jpg
END:VEVENT
BEGIN:VEVENT
DTSTART;VALUE=DATE:20221008
DTEND;VALUE=DATE:20221009
DTSTAMP:20260422T064221
CREATED:20220103T191413Z
LAST-MODIFIED:20220927T181131Z
UID:1013511-1665187200-1665273599@3wmagazine.com
SUMMARY:Kiss a Pig Gala
DESCRIPTION:The 20th annual Arkansas Diabetes Association’s Kiss a Pig Gala\, presented by Abbott Nutrition\, will take place on Saturday\, Oct. 8\, 2022\, at Rogers Convention Center. This year’s theme is Breakfast at Tusk-any’s\, and the 2022 pig is named Audrey Hamburn. The black-tie gala includes dinner\, auctions\, the infamous pig kissing ceremony\, dancing\, and live entertainment by Who’s Bad\, the ultimate music-and-dance driven Michael Jackson homage. Candidates earn the privilege of kissing the pig at the gala to show appreciation for the animal’s heroic role in diabetes research and treatment as an early source of insulin. The Breakfast at Tusk-any’s Kiss a Pig Gala Candidate Class of 2022 includes:\nWalmart / Sam’s Club Category: Ralph Clare\, Nathan Triska\nLarge Business Category: Haley Wade\, Jennifer Ring\, Stephanie Warbis\, Waylon Walburn\nSmall Business Category: Erika Finnestead-Estes\, Lance Belline\, Scheri Scarlett\, Seth Swafford\, Summer Lane \nHelp bend the curve of diabetes by supporting your favorite candidate to KISS THE PIG at diabetes.org/20thkissapig.
URL:https://3wmagazine.com/event/kiss-a-pig-gala-2022/
LOCATION:Rogers Convention Center
CATEGORIES:October,Sponsored
ATTACH;FMTTYPE=image/png:https://3wmagazine.com/wp-content/uploads/2022/09/294499095_2308146432672574_8293843154373014507_n.png
END:VEVENT
BEGIN:VEVENT
DTSTART;VALUE=DATE:20221008
DTEND;VALUE=DATE:20221009
DTSTAMP:20260422T064221
CREATED:20220103T191549Z
LAST-MODIFIED:20220927T181520Z
UID:1013514-1665187200-1665273599@3wmagazine.com
SUMMARY:MORE THAN PINK Walk
DESCRIPTION:The Susan G. Komen MORE THAN PINK Walk will be Oct. 8 at Pinnacle Hills Promenade in Rogers. For more details\, visit https://www.komen.org/.
URL:https://3wmagazine.com/event/more-than-pink-walk-2022/
CATEGORIES:October,Sponsored
ATTACH;FMTTYPE=image/png:https://3wmagazine.com/wp-content/uploads/2022/09/default_walk_logo.png
END:VEVENT
BEGIN:VEVENT
DTSTART;VALUE=DATE:20221008
DTEND;VALUE=DATE:20221009
DTSTAMP:20260422T064221
CREATED:20220926T155801Z
LAST-MODIFIED:20220926T155820Z
UID:1014849-1665187200-1665273599@3wmagazine.com
SUMMARY:Fall Harvest Celebration
DESCRIPTION:Fall Harvest Celebration is Cobblestone Farms’ largest fundraiser of the year. Join the nonprofit on Oct. 8 at The Berry Farm for a silent auction\, dinner provided by Brightwater’s culinary students\, local beer and wine\, and live music! Tickets available on the Cobblestone website at https://cobblestonefarms.org/harvestcelebration/.
URL:https://3wmagazine.com/event/fall-harvest-celebration-2022/
CATEGORIES:October,Sponsored
ATTACH;FMTTYPE=image/png:https://3wmagazine.com/wp-content/uploads/2022/09/Fall-2022-Harvest-Celebration-Invite.png
END:VEVENT
BEGIN:VEVENT
DTSTART;VALUE=DATE:20221008
DTEND;VALUE=DATE:20221024
DTSTAMP:20260422T064221
CREATED:20220707T184022Z
LAST-MODIFIED:20220707T184220Z
UID:1014567-1665187200-1666569599@3wmagazine.com
SUMMARY:Golftoberfest
DESCRIPTION:Golftoberfest is NWA’s ORIGINAL Mini-Golf Tourney! Golftoberfest is a family-friendly event where SPSFNWA recipients and their families are also invited to participate. Golftoberfest is a great way to encourage your family\, friends\, and co-workers to get out and play for a good cause. Held at Gator Golf in Fayetteville and Golf Mountain in Lowell\, this two-week event from Oct. 8-23 gives you the opportunity to go play at a safe\, socially-distanced time of your choosing! For more details\, visit https://spsfnwa.org/Golftoberfest/. \n 
URL:https://3wmagazine.com/event/golftoberfest-2022/
CATEGORIES:October,Sponsored
ATTACH;FMTTYPE=image/png:https://3wmagazine.com/wp-content/uploads/2022/07/Golf-Logo-2048x811-1.png
END:VEVENT
END:VCALENDAR