BEGIN:VCALENDAR
VERSION:2.0
PRODID:-//3W Magazine - ECPv6.15.20//NONSGML v1.0//EN
CALSCALE:GREGORIAN
METHOD:PUBLISH
X-WR-CALNAME:3W Magazine
X-ORIGINAL-URL:https://3wmagazine.com
X-WR-CALDESC:Events for 3W Magazine
REFRESH-INTERVAL;VALUE=DURATION:PT1H
X-Robots-Tag:noindex
X-PUBLISHED-TTL:PT1H
BEGIN:VTIMEZONE
TZID:America/Denver
BEGIN:DAYLIGHT
TZOFFSETFROM:-0700
TZOFFSETTO:-0600
TZNAME:MDT
DTSTART:20220313T090000
END:DAYLIGHT
BEGIN:STANDARD
TZOFFSETFROM:-0600
TZOFFSETTO:-0700
TZNAME:MST
DTSTART:20221106T080000
END:STANDARD
BEGIN:DAYLIGHT
TZOFFSETFROM:-0700
TZOFFSETTO:-0600
TZNAME:MDT
DTSTART:20230312T090000
END:DAYLIGHT
BEGIN:STANDARD
TZOFFSETFROM:-0600
TZOFFSETTO:-0700
TZNAME:MST
DTSTART:20231105T080000
END:STANDARD
BEGIN:DAYLIGHT
TZOFFSETFROM:-0700
TZOFFSETTO:-0600
TZNAME:MDT
DTSTART:20240310T090000
END:DAYLIGHT
BEGIN:STANDARD
TZOFFSETFROM:-0600
TZOFFSETTO:-0700
TZNAME:MST
DTSTART:20241103T080000
END:STANDARD
END:VTIMEZONE
BEGIN:VEVENT
DTSTART;VALUE=DATE:20230401
DTEND;VALUE=DATE:20230501
DTSTAMP:20260423T233134
CREATED:20230110T195627Z
LAST-MODIFIED:20230314T175841Z
UID:1015393-1680307200-1682899199@3wmagazine.com
SUMMARY:Pinwheels for Prevention
DESCRIPTION:Join the fight against child abuse by participating in Pinwheels for Prevention. This event is held annually\, all across the nation during the month of April\, which is Child Abuse Awareness and Prevention Month. This nationally recognized event acknowledges the importance of communities working together to prevent child physical and sexual abuse. \nKick off the month by placing banners\, signs\, and pinwheels outside of your business or home. Pinwheels are placed alongside to recognize the importance of our children\, the future they represent\, and the things our community can do every day to make sure they are safe and protected. \nYou can do your part this April by purchasing one of these signs or banners and place it outside your home or business along with sparkly pinwheels. 1836Ink has graciously agreed to donate a portion of the sales of these signs back to the Children’s Safety Center. You can purchase directly from their website http://shop.1836ink.co/csc/. For more details\, https://www.childrenssafetycenter.org/pinwheels-for-prevention/.
URL:https://3wmagazine.com/event/pinwheels-for-prevention-2023/
CATEGORIES:April,Sponsored
ATTACH;FMTTYPE=image/png:https://3wmagazine.com/wp-content/uploads/2023/01/Screen-Shot-2023-03-14-at-12.55.58-PM.png
END:VEVENT
END:VCALENDAR