BEGIN:VCALENDAR
VERSION:2.0
PRODID:-//3W Magazine - ECPv6.15.20//NONSGML v1.0//EN
CALSCALE:GREGORIAN
METHOD:PUBLISH
X-WR-CALNAME:3W Magazine
X-ORIGINAL-URL:https://3wmagazine.com
X-WR-CALDESC:Events for 3W Magazine
REFRESH-INTERVAL;VALUE=DURATION:PT1H
X-Robots-Tag:noindex
X-PUBLISHED-TTL:PT1H
BEGIN:VTIMEZONE
TZID:America/Denver
BEGIN:DAYLIGHT
TZOFFSETFROM:-0700
TZOFFSETTO:-0600
TZNAME:MDT
DTSTART:20230312T090000
END:DAYLIGHT
BEGIN:STANDARD
TZOFFSETFROM:-0600
TZOFFSETTO:-0700
TZNAME:MST
DTSTART:20231105T080000
END:STANDARD
BEGIN:DAYLIGHT
TZOFFSETFROM:-0700
TZOFFSETTO:-0600
TZNAME:MDT
DTSTART:20240310T090000
END:DAYLIGHT
BEGIN:STANDARD
TZOFFSETFROM:-0600
TZOFFSETTO:-0700
TZNAME:MST
DTSTART:20241103T080000
END:STANDARD
BEGIN:DAYLIGHT
TZOFFSETFROM:-0700
TZOFFSETTO:-0600
TZNAME:MDT
DTSTART:20250309T090000
END:DAYLIGHT
BEGIN:STANDARD
TZOFFSETFROM:-0600
TZOFFSETTO:-0700
TZNAME:MST
DTSTART:20251102T080000
END:STANDARD
END:VTIMEZONE
BEGIN:VEVENT
DTSTART;VALUE=DATE:20240301
DTEND;VALUE=DATE:20240302
DTSTAMP:20260424T200518
CREATED:20240108T062709Z
LAST-MODIFIED:20240229T192438Z
UID:1018036-1709251200-1709337599@3wmagazine.com
SUMMARY:Out-of-the-Box Luncheon
DESCRIPTION:Girls on the Run of NWA’s Out-of-the-Box Luncheon will be 11:30 a.m. to 1 p.m. at Record in Bentonville. It is a fantastic opportunity to support Girls on the Run of NWA’s mission of empowering young girls through physical activity\, positive mentorship\, and confidence-building curriculum! The luncheon’s special guest will be Latrice Watkins\, Executive Vice President and Chief Merchandising Officer at Walmart U.S. Purchase tickets/tables: https://www.gotrnwa.org/luncheon.
URL:https://3wmagazine.com/event/out-of-the-box-luncheon-2024/
LOCATION:Record\, 104 Southwest A Street\, Bentonville\, AR\, United States
CATEGORIES:March,Sponsored
ATTACH;FMTTYPE=image/png:https://3wmagazine.com/wp-content/uploads/2024/02/13th-Out-of-the-Box-Luncheon-1.png
END:VEVENT
END:VCALENDAR