BEGIN:VCALENDAR
VERSION:2.0
PRODID:-//3W Magazine - ECPv6.15.20//NONSGML v1.0//EN
CALSCALE:GREGORIAN
METHOD:PUBLISH
X-ORIGINAL-URL:https://3wmagazine.com
X-WR-CALDESC:Events for 3W Magazine
REFRESH-INTERVAL;VALUE=DURATION:PT1H
X-Robots-Tag:noindex
X-PUBLISHED-TTL:PT1H
BEGIN:VTIMEZONE
TZID:America/Denver
BEGIN:DAYLIGHT
TZOFFSETFROM:-0700
TZOFFSETTO:-0600
TZNAME:MDT
DTSTART:20180311T090000
END:DAYLIGHT
BEGIN:STANDARD
TZOFFSETFROM:-0600
TZOFFSETTO:-0700
TZNAME:MST
DTSTART:20181104T080000
END:STANDARD
BEGIN:DAYLIGHT
TZOFFSETFROM:-0700
TZOFFSETTO:-0600
TZNAME:MDT
DTSTART:20190310T090000
END:DAYLIGHT
BEGIN:STANDARD
TZOFFSETFROM:-0600
TZOFFSETTO:-0700
TZNAME:MST
DTSTART:20191103T080000
END:STANDARD
BEGIN:DAYLIGHT
TZOFFSETFROM:-0700
TZOFFSETTO:-0600
TZNAME:MDT
DTSTART:20200308T090000
END:DAYLIGHT
BEGIN:STANDARD
TZOFFSETFROM:-0600
TZOFFSETTO:-0700
TZNAME:MST
DTSTART:20201101T080000
END:STANDARD
END:VTIMEZONE
BEGIN:VEVENT
DTSTART;VALUE=DATE:20191011
DTEND;VALUE=DATE:20191014
DTSTAMP:20260421T063747
CREATED:20190819T164546Z
LAST-MODIFIED:20190819T164546Z
UID:1009061-1570752000-1571011199@3wmagazine.com
SUMMARY:Crimes of the Heart
DESCRIPTION:At the core of this play are the Magrath sisters – Meg\, Babe\, and Lenny – who reunite at Old Granddaddy’s home in Hazlehurst\, Mississippi\, after Babe shoots her abusive husband. The trio was raised in a dysfunctional family with a penchant for ugly predicaments and each has endured her share of hardship and misery. Past resentments bubble to the surface as they’re forced to deal with assorted relatives and past relationships while coping with the latest incident that has disrupted their lives. Each sister is forced to face the consequences of the “crimes of the heart” she has committed. For more details and tickets\, visit www.acozarks.org.
URL:https://3wmagazine.com/event/crimes-of-the-heart-first-weekend-2019/
LOCATION:Arts Center of the Ozarks\, 214 S. Main St.\, Springdale\, Arkansas\, 72764
CATEGORIES:Happenings,October,Sponsored
ATTACH;FMTTYPE=image/jpeg:https://3wmagazine.com/wp-content/uploads/2019/08/COTH_Choice-05.jpg
END:VEVENT
BEGIN:VEVENT
DTSTART;TZID=America/Denver:20191011T113000
DTEND;TZID=America/Denver:20191011T130000
DTSTAMP:20260421T063747
CREATED:20190910T195227Z
LAST-MODIFIED:20190910T195342Z
UID:1009180-1570793400-1570798800@3wmagazine.com
SUMMARY:Courage Award Luncheon
DESCRIPTION:This luncheon includes an awards presentation and an update on the shelter’s work of helping families rebuild after domestic violence. This year’s honoree is Jane Hunt Meade. For more details\, visit www.peaceathomeshelter.org.
URL:https://3wmagazine.com/event/courage-award-luncheon-2019/
LOCATION:Mermaids Seafood Restaurant\, 2217 N. College Avenue\, Fayetteville\, AR\, 72703\, United States
CATEGORIES:Luncheon,October,Sponsored
ATTACH;FMTTYPE=image/jpeg:https://3wmagazine.com/wp-content/uploads/2019/09/165975_387851654601689_385814710_n.jpg
END:VEVENT
BEGIN:VEVENT
DTSTART;VALUE=DATE:20191012
DTEND;VALUE=DATE:20191013
DTSTAMP:20260421T063747
CREATED:20190213T190149Z
LAST-MODIFIED:20190213T190149Z
UID:1008377-1570838400-1570924799@3wmagazine.com
SUMMARY:Sweetest Day
DESCRIPTION:Hosted at the Pinnacle home of Karen and John Scholes\, Sweetest Day is a celebration reminding people that a thoughtful word or deed enriches life. For details\, visit www.cacbentonco.com.
URL:https://3wmagazine.com/event/sweetest-day-2019/
LOCATION:Pinnacle Home of John & Karen Scholes\, Rogers\, AR\, United States
CATEGORIES:Happenings,October,Sponsored
ATTACH;FMTTYPE=image/png:https://3wmagazine.com/wp-content/uploads/2019/01/Childrens-Advocacy-Center-of-Benton-County-calendar-logo.png
END:VEVENT
BEGIN:VEVENT
DTSTART;VALUE=DATE:20191012
DTEND;VALUE=DATE:20191013
DTSTAMP:20260421T063747
CREATED:20190213T190429Z
LAST-MODIFIED:20190910T195954Z
UID:1008379-1570838400-1570924799@3wmagazine.com
SUMMARY:Fresh StART
DESCRIPTION:Enjoy an evening of art and jazz benefiting the women\, children and men who seek the services of the shelter. Fresh StART showcases artwork of the shelter’s clients as well as art from local artists and artisans. For more details\, visit www.nwaws.org.
URL:https://3wmagazine.com/event/fresh-start-2019/
LOCATION:The Peel Mansion Museum & Heritage Gardens\, 400 S. Walton Blvd.\, Bentonville\, AR\, 72712\, United States
CATEGORIES:Happenings,October,Sponsored
ATTACH;FMTTYPE=image/png:https://3wmagazine.com/wp-content/uploads/2019/01/NWA-Womens-Shelter-calendar-logo.png
END:VEVENT
BEGIN:VEVENT
DTSTART;VALUE=DATE:20191012
DTEND;VALUE=DATE:20191013
DTSTAMP:20260421T063747
CREATED:20190213T190719Z
LAST-MODIFIED:20190219T193629Z
UID:1008381-1570838400-1570924799@3wmagazine.com
SUMMARY:One Walk
DESCRIPTION:By participating in this event\, you’ll help fund life-changing research and create a world without type 1 diabetes. For details\, visit www.jdrf.org.
URL:https://3wmagazine.com/event/one-walk-2019/
CATEGORIES:Happenings,October,Sponsored
ATTACH;FMTTYPE=image/png:https://3wmagazine.com/wp-content/uploads/2019/01/image002.png
END:VEVENT
BEGIN:VEVENT
DTSTART;VALUE=DATE:20191012
DTEND;VALUE=DATE:20191013
DTSTAMP:20260421T063747
CREATED:20190213T190948Z
LAST-MODIFIED:20190213T190948Z
UID:1008383-1570838400-1570924799@3wmagazine.com
SUMMARY:Golftoberfest
DESCRIPTION:Register your team for flights at Northwest Arkansas’ original miniature golf tournament at Gator Golf. For more details\, visit www.spsfnwa.org.
URL:https://3wmagazine.com/event/golftoberfest-2019/
LOCATION:Gator Golf\, 2692 N. College Ave.\, Fayetteville\, AR\, 72703\, United States
CATEGORIES:Happenings,October
END:VEVENT
BEGIN:VEVENT
DTSTART;VALUE=DATE:20191012
DTEND;VALUE=DATE:20191013
DTSTAMP:20260421T063747
CREATED:20190910T191636Z
LAST-MODIFIED:20190910T191636Z
UID:1009171-1570838400-1570924799@3wmagazine.com
SUMMARY:Purple for a Purpose
DESCRIPTION:Purple for a Purpose features a 5K and fun run to raise awareness for domestic violence. For more details\, visit www.juniorleaguenwa.org.
URL:https://3wmagazine.com/event/purple-for-a-purpose-2019/
LOCATION:Veterans Memorial Park\, 4451 N. Vantage Dr.\, Fayetteville\, AR\, 72703\, United States
CATEGORIES:Happenings,October,Sponsored
ATTACH;FMTTYPE=image/png:https://3wmagazine.com/wp-content/uploads/2019/09/Purple_For_A_Purpose_Logo_Large-e1568142968783.png
END:VEVENT
BEGIN:VEVENT
DTSTART;VALUE=DATE:20191013
DTEND;VALUE=DATE:20191014
DTSTAMP:20260421T063747
CREATED:20190213T191817Z
LAST-MODIFIED:20190213T191817Z
UID:1008385-1570924800-1571011199@3wmagazine.com
SUMMARY:Hero Half Marathon
DESCRIPTION:This half marathon includes a fire safety fair and a firefighter challenge where firefighters run 13.1 miles while wearing full bunker gear. For more details\, visit www.herohalfmarathon.com.
URL:https://3wmagazine.com/event/hero-half-marathon-2019/
CATEGORIES:Happenings,October,Sponsored
ATTACH;FMTTYPE=image/png:https://3wmagazine.com/wp-content/uploads/2019/02/48417110_2267889800101266_4817771661824622592_n-e1550085467359.png
END:VEVENT
BEGIN:VEVENT
DTSTART;VALUE=DATE:20191015
DTEND;VALUE=DATE:20191016
DTSTAMP:20260421T063747
CREATED:20190213T192800Z
LAST-MODIFIED:20190620T163952Z
UID:1008393-1571097600-1571183999@3wmagazine.com
SUMMARY:Signature Chefs
DESCRIPTION:Enjoy an evening of sampling fine cuisine created by local chefs paired with wine\, live music and exciting custom-created auction packages. For more details\, visit www.marchofdimes.org.
URL:https://3wmagazine.com/event/signature-chefs-2019/
CATEGORIES:Happenings,October,Sponsored
ATTACH;FMTTYPE=image/png:https://3wmagazine.com/wp-content/uploads/2019/01/March-of-Dimes-calendar-logo.png
END:VEVENT
BEGIN:VEVENT
DTSTART;VALUE=DATE:20191018
DTEND;VALUE=DATE:20191019
DTSTAMP:20260421T063747
CREATED:20190702T163319Z
LAST-MODIFIED:20190702T163319Z
UID:1008879-1571356800-1571443199@3wmagazine.com
SUMMARY:Fore the Kids Golf Tournament
DESCRIPTION:AAO will host the Fore the Kids Golf Tournament on Oct. 18 at Lost Springs Golf & Athletic Club. Lunch and registration begin at noon\, and the shot gun start is at 1 p.m. For more details\, contact Tammy Thurow at 479.633.4781 or tammy@aaoteam.org.
URL:https://3wmagazine.com/event/fore-the-kids-golf-tournament-2019/
LOCATION:Lost Springs Golf & Athletic Club\, 3024 N. 22nd St.\, Rogers\, AR\, 72756\, United States
CATEGORIES:Happenings,October
ATTACH;FMTTYPE=image/png:https://3wmagazine.com/wp-content/uploads/2019/07/image001-1.png
END:VEVENT
BEGIN:VEVENT
DTSTART;VALUE=DATE:20191018
DTEND;VALUE=DATE:20191021
DTSTAMP:20260421T063747
CREATED:20190819T164825Z
LAST-MODIFIED:20190819T164825Z
UID:1009064-1571356800-1571615999@3wmagazine.com
SUMMARY:Crimes of the Heart
DESCRIPTION:At the core of this play are the Magrath sisters – Meg\, Babe\, and Lenny – who reunite at Old Granddaddy’s home in Hazlehurst\, Mississippi\, after Babe shoots her abusive husband. The trio was raised in a dysfunctional family with a penchant for ugly predicaments and each has endured her share of hardship and misery. Past resentments bubble to the surface as they’re forced to deal with assorted relatives and past relationships while coping with the latest incident that has disrupted their lives. Each sister is forced to face the consequences of the “crimes of the heart” she has committed. For more details and tickets\, visit www.acozarks.org.
URL:https://3wmagazine.com/event/crimes-of-the-heart-second-weekend-2019/
LOCATION:Arts Center of the Ozarks\, 214 S. Main St.\, Springdale\, Arkansas\, 72764
CATEGORIES:Happenings,October,Sponsored
ATTACH;FMTTYPE=image/jpeg:https://3wmagazine.com/wp-content/uploads/2019/08/COTH_Choice-05-1.jpg
END:VEVENT
BEGIN:VEVENT
DTSTART;VALUE=DATE:20191019
DTEND;VALUE=DATE:20191020
DTSTAMP:20260421T063747
CREATED:20190213T192451Z
LAST-MODIFIED:20190213T192451Z
UID:1008391-1571443200-1571529599@3wmagazine.com
SUMMARY:Open House & Chili Cookoff
DESCRIPTION:Enjoy this fun open house and chili cookoff to benefit Saving Grace. For more details\, visit www.savinggracenwa.org.
URL:https://3wmagazine.com/event/open-house-chili-cookoff-2019/
CATEGORIES:Happenings,October
ATTACH;FMTTYPE=image/png:https://3wmagazine.com/wp-content/uploads/2019/01/Saving-Grace-2-calendar-logo.png
END:VEVENT
BEGIN:VEVENT
DTSTART;VALUE=DATE:20191023
DTEND;VALUE=DATE:20191024
DTSTAMP:20260421T063747
CREATED:20190819T181927Z
LAST-MODIFIED:20190819T181927Z
UID:1009078-1571788800-1571875199@3wmagazine.com
SUMMARY:Pink Ribbon Luncheon
DESCRIPTION:Pink Ribbon Luncheon is a celebration to honor and remember breast cancer survivors. Attendees will enjoy a delicious lunch\, silent auction\, survivor fashion show and BigWig presentation at the Northwest Arkansas Convention Center in Springdale. Doors open at 10:45 a.m. and the luncheon begins at 11:30 a.m. For more details\, visit www.komenozark.org.
URL:https://3wmagazine.com/event/pink-ribbon-luncheon-2019/
LOCATION:Northwest Arkansas Convention Center\, 1420 S. 48th St.\, Springdale\, AR\, United States
CATEGORIES:Happenings,Luncheon,October,Sponsored
ATTACH;FMTTYPE=image/png:https://3wmagazine.com/wp-content/uploads/2019/08/2019-Pink-Ribbon-Luncheon-logo-color-e1566238733478.png
END:VEVENT
BEGIN:VEVENT
DTSTART;VALUE=DATE:20191024
DTEND;VALUE=DATE:20191025
DTSTAMP:20260421T063747
CREATED:20190213T193330Z
LAST-MODIFIED:20190226T194359Z
UID:1008395-1571875200-1571961599@3wmagazine.com
SUMMARY:Ghouls Night Out
DESCRIPTION:Guests can dance the night away in their best Halloween costumes at this event at the Meteor Guitar Gallery\, which includes a costume contest and prizes. For more details\, visit www.openavenues.org.
URL:https://3wmagazine.com/event/ghouls-night-out-2019/
LOCATION:Meteor Guitar Gallery\, 128 W Central Ave\, Bentonville\, AR\, United States
CATEGORIES:Happenings,October,Sponsored
ATTACH;FMTTYPE=image/jpeg:https://3wmagazine.com/wp-content/uploads/2019/02/47439798_2114056568616960_9131104212212514816_o-e1550086381986.jpg
END:VEVENT
BEGIN:VEVENT
DTSTART;VALUE=DATE:20191025
DTEND;VALUE=DATE:20191026
DTSTAMP:20260421T063747
CREATED:20190213T182419Z
LAST-MODIFIED:20190909T161903Z
UID:1008357-1571961600-1572047999@3wmagazine.com
SUMMARY:Howl-O-Ween Spooktacular
DESCRIPTION:Enjoy hayrides\, games\, food\, children’s costume contests and the chance to see the tigers at night at the Turpentine Creek Wildlife Refuge. For information\, visit www.turpentinecreek.org.
URL:https://3wmagazine.com/event/howl-o-ween-spooktacular-2019/
LOCATION:Turpentine Creek Wildlife Refuge\, 239 Turpentine Creek Lane\, Eureka Springs\, AR\, 72632\, United States
CATEGORIES:Happenings,October,Sponsored
ATTACH;FMTTYPE=image/jpeg:https://3wmagazine.com/wp-content/uploads/2019/01/49213261_10155666043552186_9089542694157418496_o-e1553992320666.jpg
END:VEVENT
BEGIN:VEVENT
DTSTART;VALUE=DATE:20191025
DTEND;VALUE=DATE:20191026
DTSTAMP:20260421T063747
CREATED:20190213T194744Z
LAST-MODIFIED:20190213T194744Z
UID:1008402-1571961600-1572047999@3wmagazine.com
SUMMARY:Treats at the Train
DESCRIPTION:Trick or treat on the train at the Arkansas Missouri Railroad Springdale Depot and enjoy fun carnival games\, live music\, a hayride\, food trucks\, pony rides and more. For more details\, visit www.nwahouseofhope.com.
URL:https://3wmagazine.com/event/treats-at-the-train-2019/
LOCATION:Arkansas Missouri Railroad Springdale Depot\, 306 E. Emma Ave.\, Springdale\, AR\, 72764\, United States
CATEGORIES:Happenings,October
END:VEVENT
BEGIN:VEVENT
DTSTART;VALUE=DATE:20191025
DTEND;VALUE=DATE:20191026
DTSTAMP:20260421T063747
CREATED:20190819T182547Z
LAST-MODIFIED:20190819T182547Z
UID:1009081-1571961600-1572047999@3wmagazine.com
SUMMARY:5x5 Soiree & Auction
DESCRIPTION:The Arts Center of the Ozarks will auction original art by local artists\, all 5″ by 5″ in size at 5:55 p.m. Oct. 25. This event takes place at the end of the month-long 5×5 Exhibit at the arts center. For details\, visit www.acozarks.org.
URL:https://3wmagazine.com/event/5x5-soiree-auction-2019/
LOCATION:Arts Center of the Ozarks\, 214 S. Main St.\, Springdale\, Arkansas\, 72764
CATEGORIES:Happenings,October,Sponsored
ATTACH;FMTTYPE=image/png:https://3wmagazine.com/wp-content/uploads/2018/09/ACO-logo-1.png
END:VEVENT
BEGIN:VEVENT
DTSTART;VALUE=DATE:20191025
DTEND;VALUE=DATE:20191027
DTSTAMP:20260421T063747
CREATED:20190213T194240Z
LAST-MODIFIED:20190819T184107Z
UID:1008400-1571961600-1572134399@3wmagazine.com
SUMMARY:Golf Tournament\, Ultimate Tailgate & Auction
DESCRIPTION:Join Pagnozzi Parker Charities for a golf tournament and the ultimate tailgate and auction\, featuring food\, entertainment\, drinks and dancing. The golf tournament will be on Oct. 25 at Paradise Valley Golf Course\, and the ultimate tailgate and auction will be on Oct. 26 at the Fayetteville Town Center. For more details\, visit www.pagnozziparker.org.
URL:https://3wmagazine.com/event/golf-tournament-ultimate-tailgate-auction-2019/
CATEGORIES:Happenings,October,Sponsored
ATTACH;FMTTYPE=image/png:https://3wmagazine.com/wp-content/uploads/2019/08/Event-FD-PP-Logo.png
END:VEVENT
BEGIN:VEVENT
DTSTART;VALUE=DATE:20191026
DTEND;VALUE=DATE:20191027
DTSTAMP:20260421T063747
CREATED:20191021T165226Z
LAST-MODIFIED:20191021T165616Z
UID:1009214-1572048000-1572134399@3wmagazine.com
SUMMARY:Laughability 8
DESCRIPTION:Laughability 8 benefiting Ability Tree consists of a live and silent auction\, dinner\, updates on the mission\, and clean comedic entertainment. The event will be from 6-9 p.m. Oct. 26 at Simmons Great Hall on the campus of John Brown University in Siloam Springs. For more details\, visit www.abilitytree.org/laughability8.
URL:https://3wmagazine.com/event/laughability-8-2019/
LOCATION:Simmons Great Hall at John Brown University
CATEGORIES:Happenings,October
ATTACH;FMTTYPE=image/jpeg:https://3wmagazine.com/wp-content/uploads/2019/10/AT_Laughability8_5x7_invitation_sample2-2_FRONT-2-e1571676940987.jpg
END:VEVENT
BEGIN:VEVENT
DTSTART;VALUE=DATE:20191027
DTEND;VALUE=DATE:20191028
DTSTAMP:20260421T063747
CREATED:20190910T202344Z
LAST-MODIFIED:20190910T202425Z
UID:1009184-1572134400-1572220799@3wmagazine.com
SUMMARY:Fun Run
DESCRIPTION:Enjoy a run\, children’s activities and more to benefit The New School. For more details\, visit www.thenewschool.org.
URL:https://3wmagazine.com/event/fun-run-2019/
CATEGORIES:Family-Friendly,Happenings,October
ATTACH;FMTTYPE=image/png:https://3wmagazine.com/wp-content/uploads/2018/12/The-New-School-calendar-logo.png
END:VEVENT
BEGIN:VEVENT
DTSTART;VALUE=DATE:20191029
DTEND;VALUE=DATE:20191030
DTSTAMP:20260421T063747
CREATED:20191021T171738Z
LAST-MODIFIED:20191021T171738Z
UID:1009223-1572307200-1572393599@3wmagazine.com
SUMMARY:Marjorie Marugg-Wolfe Sustainability Campaign Kickoff
DESCRIPTION:The Marjorie Marugg-Wolfe Sustainability Campaign Kickoff will be at 4 p.m. Oct. 29 at Hunt Tower in Rogers. RSVP to Frankie@spsfbc.org by Oct. 21 if possible.
URL:https://3wmagazine.com/event/marjorie-marugg-wolfe-sustainability-campaign-kickoff-2019/
LOCATION:Hunt Tower\, Rogers\, Arkansas
CATEGORIES:Happenings,October
ATTACH;FMTTYPE=image/jpeg:https://3wmagazine.com/wp-content/uploads/2019/10/image015.jpg
END:VEVENT
BEGIN:VEVENT
DTSTART;VALUE=DATE:20191101
DTEND;VALUE=DATE:20191102
DTSTAMP:20260421T063747
CREATED:20191021T173618Z
LAST-MODIFIED:20191021T173618Z
UID:1009228-1572566400-1572652799@3wmagazine.com
SUMMARY:Aiming for Zero Fundraising Gala
DESCRIPTION:Aiming for Zero Fundraising Gala benefiting Project Zero will be at 6:30 p.m. Nov. 1 at The Apollo on Emma in Springdale. Project Zero’s mission is to see that every waiting adoptable child in the Arkansas foster system finds their forever family. For more details\, visit theprojectzero.org.
URL:https://3wmagazine.com/event/aiming-for-zero-fundraising-gala-2019/
LOCATION:The Apollo on Emma\, 308 W. Emma Ave.\, Springdale\, AR\, 72764\, United States
CATEGORIES:Happenings,November
ATTACH;FMTTYPE=image/png:https://3wmagazine.com/wp-content/uploads/2019/10/A4Znwa-billboards-400x1400-e1571679322115.png
END:VEVENT
BEGIN:VEVENT
DTSTART;VALUE=DATE:20191101
DTEND;VALUE=DATE:20191104
DTSTAMP:20260421T063747
CREATED:20190827T170412Z
LAST-MODIFIED:20190827T170412Z
UID:1009119-1572566400-1572825599@3wmagazine.com
SUMMARY:A Comedy of Tenors
DESCRIPTION:In this hilarious sequel to “Lend Me a Tenor\,” we have one hotel suite\, four tenors\, two wives\, three girlfriends\, and a soccer stadium filled with screaming fans. What could possibly go wrong? It’s 1930s Paris and the stage is set for the concert of the century – as long as producer Henry Saunders can keep Italian superstar Tito Merelli and his hot-blooded wife\, Maira\, from causing runaway chaos. Prepare for an uproarious ride\, full of mistaken identities\, bedroom hijinks\, and madcap delight. For more details\, visit www.arkansaspublictheatre.org.
URL:https://3wmagazine.com/event/a-comedy-of-tenors-first-weekend-2019/
LOCATION:The Victory Theater\, 116 S. 2nd St.\, Rogers\, AR\, United States
CATEGORIES:Happenings,November,Sponsored
ATTACH;FMTTYPE=image/jpeg:https://3wmagazine.com/wp-content/uploads/2019/08/ea2216c8591f9b55197034be61c715ea_750x600-e1566925412853.jpg
END:VEVENT
BEGIN:VEVENT
DTSTART;VALUE=DATE:20191102
DTEND;VALUE=DATE:20191103
DTSTAMP:20260421T063747
CREATED:20190213T195429Z
LAST-MODIFIED:20190620T163322Z
UID:1008405-1572652800-1572739199@3wmagazine.com
SUMMARY:Art of Hospice
DESCRIPTION:Enjoy an evening at Crystal Bridges Museum of American Art\, featuring an elegant dinner and wine pairings inspired by artwork selected from the museum’s collection. For more information\, visit www.nwacircleoflife.com.
URL:https://3wmagazine.com/event/art-of-hospice-2019/
LOCATION:Crystal Bridges Museum of American Art\, 600 Museum Way\, Bentonville\, AR\, 72712\, United States
CATEGORIES:Happenings,November,Sponsored
ATTACH;FMTTYPE=image/jpeg:https://3wmagazine.com/wp-content/uploads/2016/08/Circle-of-Life-Hospice-e1550087745463.jpg
END:VEVENT
BEGIN:VEVENT
DTSTART;VALUE=DATE:20191102
DTEND;VALUE=DATE:20191104
DTSTAMP:20260421T063747
CREATED:20190213T200845Z
LAST-MODIFIED:20190403T175528Z
UID:1008407-1572652800-1572825599@3wmagazine.com
SUMMARY:Bam Bam Weekend
DESCRIPTION:This weekend includes educational programming and fun activities about all things Ursus (bears) at the Turpentine Creek Wildlife Refuge. Guests will learn about the Refuge’s resident bears and participate in other activities during this unique educational offering. For more details\, visit www.turpentinecreek.org.
URL:https://3wmagazine.com/event/bam-bam-weekend-2019/
LOCATION:Turpentine Creek Wildlife Refuge\, 239 Turpentine Creek Lane\, Eureka Springs\, AR\, 72632\, United States
CATEGORIES:Happenings,November,Sponsored
ATTACH;FMTTYPE=image/jpeg:https://3wmagazine.com/wp-content/uploads/2019/01/49213261_10155666043552186_9089542694157418496_o-e1553992320666.jpg
END:VEVENT
BEGIN:VEVENT
DTSTART;VALUE=DATE:20191107
DTEND;VALUE=DATE:20191108
DTSTAMP:20260421T063747
CREATED:20190213T201207Z
LAST-MODIFIED:20190213T201207Z
UID:1008409-1573084800-1573171199@3wmagazine.com
SUMMARY:A Very Special Art Show
DESCRIPTION:Enjoy an evening at Record filled with hors d’oeuvres\, wine\, beer and live entertainment while viewing and purchasing art from local artists. Guests also will have the opportunity to bid on artwork created by children and adults served by the Sunshine School. For more details\, visit www.nwasunshineschool.org.
URL:https://3wmagazine.com/event/a-very-special-art-show-2019/
LOCATION:Record\, 104 SW A St.\, Bentonville\, AR\, 72712\, United States
CATEGORIES:Happenings,November,Sponsored
ATTACH;FMTTYPE=image/png:https://3wmagazine.com/wp-content/uploads/2019/01/Sunshine-School-Development-Center-calendar-logo.png
END:VEVENT
BEGIN:VEVENT
DTSTART;VALUE=DATE:20191107
DTEND;VALUE=DATE:20191111
DTSTAMP:20260421T063747
CREATED:20190827T170700Z
LAST-MODIFIED:20190827T170700Z
UID:1009122-1573084800-1573430399@3wmagazine.com
SUMMARY:A Comedy of Tenors
DESCRIPTION:In this hilarious sequel to “Lend Me a Tenor\,” we have one hotel suite\, four tenors\, two wives\, three girlfriends\, and a soccer stadium filled with screaming fans. What could possibly go wrong? It’s 1930s Paris and the stage is set for the concert of the century – as long as producer Henry Saunders can keep Italian superstar Tito Merelli and his hot-blooded wife\, Maira\, from causing runaway chaos. Prepare for an uproarious ride\, full of mistaken identities\, bedroom hijinks\, and madcap delight. For more details\, visit www.arkansaspublictheatre.org.
URL:https://3wmagazine.com/event/a-comedy-of-tenors-second-weekend-2019/
LOCATION:The Victory Theater\, 116 S. 2nd St.\, Rogers\, AR\, United States
CATEGORIES:Happenings,November,Sponsored
ATTACH;FMTTYPE=image/jpeg:https://3wmagazine.com/wp-content/uploads/2019/08/ea2216c8591f9b55197034be61c715ea_750x600-e1566925412853.jpg
END:VEVENT
BEGIN:VEVENT
DTSTART;VALUE=DATE:20191108
DTEND;VALUE=DATE:20191109
DTSTAMP:20260421T063747
CREATED:20190213T202048Z
LAST-MODIFIED:20190213T202222Z
UID:1008411-1573171200-1573257599@3wmagazine.com
SUMMARY:Big Night Gala
DESCRIPTION:Enjoy an upscale cocktail hour\, shopping\, a unique dining experience and decadent desserts all to benefit The Jones Center. For details\, visit www.thejonescenter.net.
URL:https://3wmagazine.com/event/big-night-gala-2019/
LOCATION:The Jones Center\, 922 E. Emma Ave.\, Springdale\, AR\, 72764\, United States
CATEGORIES:Happenings,November
ATTACH;FMTTYPE=image/jpeg:https://3wmagazine.com/wp-content/uploads/2015/08/The-Jones-Center.jpg
END:VEVENT
BEGIN:VEVENT
DTSTART;VALUE=DATE:20191113
DTEND;VALUE=DATE:20191114
DTSTAMP:20260421T063747
CREATED:20190213T202731Z
LAST-MODIFIED:20190620T163011Z
UID:1008413-1573603200-1573689599@3wmagazine.com
SUMMARY:National Philanthropy Day
DESCRIPTION:This event includes an award ceremony and luncheon recognizing the great contributions of philanthropy in Northwest Arkansas and those who are active in the philanthropic community. For more details\, visit community.afpglobal.org/afparnorthwestchapter/home.
URL:https://3wmagazine.com/event/national-philanthropy-day-2019/
CATEGORIES:Happenings,November,Sponsored
END:VEVENT
BEGIN:VEVENT
DTSTART;VALUE=DATE:20191114
DTEND;VALUE=DATE:20191115
DTSTAMP:20260421T063747
CREATED:20191104T205916Z
LAST-MODIFIED:20191104T210320Z
UID:1009262-1573689600-1573775999@3wmagazine.com
SUMMARY:TheatreSquared Gala
DESCRIPTION:TheatreSquared’s signature annual celebration supporting education and access to remarkable live theatre will be held at 6 p.m. Nov. 14 at the Fayetteville Town Center. The evening will feature a command cabaret performance by James Taylor Odom (“Murder for Two” at T2) and Elisabeth Evans (“Once” on Broadway and at T2)\, along with a three-course meal catered by Bordinos Restaurant and wines selected by sommelier François Guilloux. All proceeds support the company’s education and access programs serving 30\,000 Arkansans each year. The evening’s premiere sponsors are J.B. Hunt Transport as well as Margaret and Dick Rutherford. \nHonorary co-chairs for the evening are: Marcy & Juan Camacho\, Allyson & Mike Malone\, Jennifer & Louis Martin\, Catherine & Stephen Roche\, Esther Silver-Parker\, Todd Simmons & Melissa Haynes\, Shelley Simpson\, Demara Titzer\, and Donald & Sheroll Walker. Kirk Thompson and Brett Burch will receive the 2019 Arts Advocate Award recognizing their longstanding dedication to arts and education in Northwest Arkansas. TheatreSquared will also present a Special Award for Hospitality to Susan and Orville Hall\, recognizing their generosity in hosting scores of TheatreSquared artists in their home over the past decade. Laurie Harrison of Fulbright Junior High in Bentonville will receive the 2019 Arts Educator Award. \nFor more details\, visit www.theatre2.org.
URL:https://3wmagazine.com/event/theatresquared-gala-2019/
LOCATION:Fayetteville Town Center\, 15 West Mountain\, Fayetteville\, AR\, 72701\, United States
CATEGORIES:Galas,Happenings,November
ATTACH;FMTTYPE=image/png:https://3wmagazine.com/wp-content/uploads/2019/11/Screen-Shot-2019-11-04-at-3.01.46-PM-e1572901361802.png
END:VEVENT
END:VCALENDAR