BEGIN:VCALENDAR
VERSION:2.0
PRODID:-//3W Magazine - ECPv6.15.20//NONSGML v1.0//EN
CALSCALE:GREGORIAN
METHOD:PUBLISH
X-WR-CALNAME:3W Magazine
X-ORIGINAL-URL:https://3wmagazine.com
X-WR-CALDESC:Events for 3W Magazine
REFRESH-INTERVAL;VALUE=DURATION:PT1H
X-Robots-Tag:noindex
X-PUBLISHED-TTL:PT1H
BEGIN:VTIMEZONE
TZID:America/Denver
BEGIN:DAYLIGHT
TZOFFSETFROM:-0700
TZOFFSETTO:-0600
TZNAME:MDT
DTSTART:20180311T090000
END:DAYLIGHT
BEGIN:STANDARD
TZOFFSETFROM:-0600
TZOFFSETTO:-0700
TZNAME:MST
DTSTART:20181104T080000
END:STANDARD
BEGIN:DAYLIGHT
TZOFFSETFROM:-0700
TZOFFSETTO:-0600
TZNAME:MDT
DTSTART:20190310T090000
END:DAYLIGHT
BEGIN:STANDARD
TZOFFSETFROM:-0600
TZOFFSETTO:-0700
TZNAME:MST
DTSTART:20191103T080000
END:STANDARD
BEGIN:DAYLIGHT
TZOFFSETFROM:-0700
TZOFFSETTO:-0600
TZNAME:MDT
DTSTART:20200308T090000
END:DAYLIGHT
BEGIN:STANDARD
TZOFFSETFROM:-0600
TZOFFSETTO:-0700
TZNAME:MST
DTSTART:20201101T080000
END:STANDARD
END:VTIMEZONE
BEGIN:VEVENT
DTSTART;VALUE=DATE:20191206
DTEND;VALUE=DATE:20191207
DTSTAMP:20260423T124820
CREATED:20190213T205551Z
LAST-MODIFIED:20191120T182639Z
UID:1008430-1575590400-1575676799@3wmagazine.com
SUMMARY:Christmas at the Mansion
DESCRIPTION:Kick off the holiday season with a festive journey of food\, libations and learning at The Peel Mansion. For more details\, visit www.peelcompton.org.
URL:https://3wmagazine.com/event/christmas-at-the-mansion-2019/
LOCATION:The Peel Mansion Museum & Heritage Gardens\, 400 S. Walton Blvd.\, Bentonville\, AR\, 72712\, United States
CATEGORIES:December,Happenings,Sponsored
ATTACH;FMTTYPE=image/png:https://3wmagazine.com/wp-content/uploads/2019/01/The-Peel-Compton-Foundation-calendar-logo.png
END:VEVENT
BEGIN:VEVENT
DTSTART;VALUE=DATE:20191207
DTEND;VALUE=DATE:20191208
DTSTAMP:20260423T124820
CREATED:20190213T210125Z
LAST-MODIFIED:20191202T202303Z
UID:1008434-1575676800-1575763199@3wmagazine.com
SUMMARY:Jingle Bell Jog 5K & Children's Fun Run
DESCRIPTION:Walk\, run and be merry at this annual event at the Botanical Garden of the Ozarks. Ugly Christmas sweaters\, Santa hats\, elf ears and any attire that sparkles or jingles are highly encouraged. For more details\, visit www.bgozarks.org.
URL:https://3wmagazine.com/event/jingle-bell-jog-5k-childrens-fun-run-2019/
CATEGORIES:December,Happenings,Sponsored
ATTACH;FMTTYPE=image/png:https://3wmagazine.com/wp-content/uploads/2019/01/BGO-calendar-logo.png
END:VEVENT
BEGIN:VEVENT
DTSTART;VALUE=DATE:20191207
DTEND;VALUE=DATE:20191208
DTSTAMP:20260423T124820
CREATED:20190213T210439Z
LAST-MODIFIED:20191120T182258Z
UID:1008436-1575676800-1575763199@3wmagazine.com
SUMMARY:Santa at the Mansion
DESCRIPTION:Santa Claus will be visiting The Peel Mansion to take pictures in conjunction with Christmas themed story time. For more information\, visit www.peelcompton.org.
URL:https://3wmagazine.com/event/santa-at-the-mansion-2019/
LOCATION:The Peel Mansion Museum & Heritage Gardens\, 400 S. Walton Blvd.\, Bentonville\, AR\, 72712\, United States
CATEGORIES:December,Happenings,Sponsored
ATTACH;FMTTYPE=image/png:https://3wmagazine.com/wp-content/uploads/2019/01/The-Peel-Compton-Foundation-calendar-logo.png
END:VEVENT
BEGIN:VEVENT
DTSTART;TZID=America/Denver:20191207T080000
DTEND;TZID=America/Denver:20191207T150000
DTSTAMP:20260423T124820
CREATED:20191121T191040Z
LAST-MODIFIED:20191121T191040Z
UID:1009306-1575705600-1575730800@3wmagazine.com
SUMMARY:Children's Christmas Train
DESCRIPTION:Enjoy fun and festivities aboard the Children’s Christmas Train\, including a winter wonderland of games and activities. The train runs from Springdale to Johnson and back every hour. Other activities include photos with Santa\, craft stations and cookie decorating\, pony rides\, and other fun activities. Bring your family and start a new tradition with this family fun activity for the holidays! Proceeds benefit the Arts Center of the Ozarks’ children’s arts and educational programming. Tickets available at https://amtrainrides.com/schedule/.
URL:https://3wmagazine.com/event/childrens-christmas-train-2019/
LOCATION:Arkansas Missouri Railroad Springdale Depot\, 306 E. Emma Ave.\, Springdale\, AR\, 72764\, United States
CATEGORIES:December,Happenings,Sponsored
ATTACH;FMTTYPE=image/jpeg:https://3wmagazine.com/wp-content/uploads/2019/11/76613112_10156958625334163_508980347862515712_o-e1574363368373.jpg
END:VEVENT
BEGIN:VEVENT
DTSTART;TZID=America/Denver:20191207T180000
DTEND;TZID=America/Denver:20191207T180000
DTSTAMP:20260423T124820
CREATED:20190213T205251Z
LAST-MODIFIED:20191121T191634Z
UID:1008428-1575741600-1575741600@3wmagazine.com
SUMMARY:O' Night Divine Charity Ball
DESCRIPTION:The annual Charity Ball at the John Q. Hammons Center is a black-tie event featuring a top-notch entertainer and an over-the-top after party. Proceeds support enhanced programs and services at Mercy Northwest Arkansas. For more information\, visit mercyhealthfoundation.net/communities/northwest-arkansas/charityball/.
URL:https://3wmagazine.com/event/o-night-divine-charity-ball-2019/
LOCATION:John Q. Hammons Center\, 3303 S. Pinnacle Hills Pkwy.\, Rogers\, AR\, 72758\, United States
CATEGORIES:December,Happenings,Sponsored
ATTACH;FMTTYPE=image/jpeg:https://3wmagazine.com/wp-content/uploads/2019/02/76681397_2709776555711520_7240030163323322368_n-e1574363752508.jpg
END:VEVENT
BEGIN:VEVENT
DTSTART;VALUE=DATE:20191208
DTEND;VALUE=DATE:20191209
DTSTAMP:20260423T124820
CREATED:20190910T203428Z
LAST-MODIFIED:20190910T203428Z
UID:1009187-1575763200-1575849599@3wmagazine.com
SUMMARY:Winter Dreams Tour of Homes
DESCRIPTION:Get in to the holiday spirit by touring beautifully decorated homes in Northwest Arkansas this season. For more details\, visit www.juniorleaguenwa.org.
URL:https://3wmagazine.com/event/winter-dreams-tour-of-homes-2019/
CATEGORIES:December,Happenings,Sponsored
ATTACH;FMTTYPE=image/png:https://3wmagazine.com/wp-content/uploads/2019/09/61378684_10156104753921437_3202484734391222272_n-e1568147643568.png
END:VEVENT
BEGIN:VEVENT
DTSTART;VALUE=DATE:20191209
DTEND;VALUE=DATE:20191210
DTSTAMP:20260423T124820
CREATED:20190718T161105Z
LAST-MODIFIED:20190718T161105Z
UID:1008914-1575849600-1575935999@3wmagazine.com
SUMMARY:The Burlsworth Trophy Luncheon
DESCRIPTION:The Burlsworth Trophy Luncheon will be Dec. 9 at the Northwest Arkansas Convention Center in Springdale. The Burlsworth Trophy is given to college football’s most outstanding player who began his career as a walk-on. For tickets and more details\, visit www.burlsworthtrophy.com.
URL:https://3wmagazine.com/event/the-burlsworth-trophy-luncheon-2019/
LOCATION:Northwest Arkansas Convention Center\, 1420 S. 48th St.\, Springdale\, AR\, United States
CATEGORIES:December,Happenings
ATTACH;FMTTYPE=image/jpeg:https://3wmagazine.com/wp-content/uploads/2016/10/brandon-burlsworth-foundation-.jpg
END:VEVENT
BEGIN:VEVENT
DTSTART;TZID=America/Denver:20191211T104500
DTEND;TZID=America/Denver:20191211T111500
DTSTAMP:20260423T124820
CREATED:20191120T184254Z
LAST-MODIFIED:20191120T184331Z
UID:1009302-1576061100-1576062900@3wmagazine.com
SUMMARY:Carolling at Compton Gardens
DESCRIPTION:Second-grade students from R.E. Baker Elementary School in Bentonville will be singing traditional and modern Christmas carols. There will be candy canes and hot cocoa for all in attendance. For more details\, visit www.peelcompton.org.
URL:https://3wmagazine.com/event/re-baker-carolling-at-compton-gardens-2019/
LOCATION:Compton Gardens\, 312 N. Main St.\, Bentonville\, AR\, 72712\, United States
CATEGORIES:December,Happenings
ATTACH;FMTTYPE=image/png:https://3wmagazine.com/wp-content/uploads/2019/01/The-Peel-Compton-Foundation-calendar-logo.png
END:VEVENT
BEGIN:VEVENT
DTSTART;TZID=America/Denver:20191212T190000
DTEND;TZID=America/Denver:20191212T200000
DTSTAMP:20260423T124820
CREATED:20191202T225010Z
LAST-MODIFIED:20191202T225010Z
UID:1009335-1576177200-1576180800@3wmagazine.com
SUMMARY:Christmas Concert with Daniel Rodriguez
DESCRIPTION:Get tickets now for this Christmas Concert with Daniel Rodriguez\, a full-time guitarist\, composer and guitar teacher who resides in Dallas. His rock instrumental album entitled\, “Unstoppable\,” and his Classical Guitar Christmas CD\, “Tidings of Comfort and Joy\,” are available on iTunes and Spotify. The event benefits LifeSource International. To purchase seats\, go to lifesourcenwa.org/donate and click “donate.” Be sure to select the “Christmas Concert” fund from the dropdown box. If you have any issues\, please call the office at 479.521.4000.
URL:https://3wmagazine.com/event/christmas-concert-with-daniel-rodriguez-2019/
CATEGORIES:December,Entertainment,Happenings
END:VEVENT
BEGIN:VEVENT
DTSTART;VALUE=DATE:20191213
DTEND;VALUE=DATE:20191216
DTSTAMP:20260423T124820
CREATED:20190827T171226Z
LAST-MODIFIED:20190827T171226Z
UID:1009124-1576195200-1576454399@3wmagazine.com
SUMMARY:A Tuna Christmas
DESCRIPTION:In this hilarious sequel to “Greater Tuna\,” it’s Christmas in the third-smallest town in Texas. Radio station OKKK news personalities Thurston Wheelis and Arles Struvie report on various Yuletide activities\, including the hot competition in the annual lawn-display contest. In other news\, voracious Joe Bob Lipsey’s production of “A Christmas Carol” is jeopardized by unpaid electric bills. Many colorful Tuna denizens\, some you will recognize from “Greater Tuna” and some appearing here for the first time\, join in the holiday fun. “A Tuna Christmas” is a total delight for all seasons. For more details\, visit www.arkansaspublictheatre.org.
URL:https://3wmagazine.com/event/a-tuna-christmas-first-weekend-2019/
LOCATION:The Victory Theater\, 116 S. 2nd St.\, Rogers\, AR\, United States
CATEGORIES:December,Happenings,Sponsored
ATTACH;FMTTYPE=image/jpeg:https://3wmagazine.com/wp-content/uploads/2019/08/84f507bc6eda300696cc06b69da992e6_750x600-e1566925922128.jpg
END:VEVENT
BEGIN:VEVENT
DTSTART;VALUE=DATE:20191214
DTEND;VALUE=DATE:20191215
DTSTAMP:20260423T124820
CREATED:20191120T184940Z
LAST-MODIFIED:20191205T174623Z
UID:1009304-1576281600-1576367999@3wmagazine.com
SUMMARY:Cookie Decorating Party
DESCRIPTION:Decorate holiday cookies at The Peel Mansion. For more details\, visit www.peelcompton.org.
URL:https://3wmagazine.com/event/cookie-decorating-party-2019/
LOCATION:The Peel Mansion Museum & Heritage Gardens\, 400 S. Walton Blvd.\, Bentonville\, AR\, 72712\, United States
CATEGORIES:December,Happenings,Sponsored
ATTACH;FMTTYPE=image/png:https://3wmagazine.com/wp-content/uploads/2019/01/The-Peel-Compton-Foundation-calendar-logo.png
END:VEVENT
BEGIN:VEVENT
DTSTART;VALUE=DATE:20191219
DTEND;VALUE=DATE:20191223
DTSTAMP:20260423T124820
CREATED:20190827T171503Z
LAST-MODIFIED:20190827T171503Z
UID:1009127-1576713600-1577059199@3wmagazine.com
SUMMARY:A Tuna Christmas
DESCRIPTION:In this hilarious sequel to “Greater Tuna\,” it’s Christmas in the third-smallest town in Texas. Radio station OKKK news personalities Thurston Wheelis and Arles Struvie report on various Yuletide activities\, including the hot competition in the annual lawn-display contest. In other news\, voracious Joe Bob Lipsey’s production of “A Christmas Carol” is jeopardized by unpaid electric bills. Many colorful Tuna denizens\, some you will recognize from “Greater Tuna” and some appearing here for the first time\, join in the holiday fun. “A Tuna Christmas” is a total delight for all seasons. For more details\, visit www.arkansaspublictheatre.org.
URL:https://3wmagazine.com/event/a-tuna-christmas-second-weekend-2019/
LOCATION:The Victory Theater\, 116 S. 2nd St.\, Rogers\, AR\, United States
CATEGORIES:December,Happenings,Sponsored
ATTACH;FMTTYPE=image/jpeg:https://3wmagazine.com/wp-content/uploads/2019/08/84f507bc6eda300696cc06b69da992e6_750x600-e1566925922128.jpg
END:VEVENT
BEGIN:VEVENT
DTSTART;VALUE=DATE:20191231
DTEND;VALUE=DATE:20200101
DTSTAMP:20260423T124820
CREATED:20190729T172342Z
LAST-MODIFIED:20190729T172342Z
UID:1008976-1577750400-1577836799@3wmagazine.com
SUMMARY:Viva Las Vegas: New Year’s Eve with Soul
DESCRIPTION:Come out and ring in the New Year at Souls Harbor NWA’s annual Viva Las Vegas: New Year’s Eve with Soul. There will be professional poker tables\, raffles\, wine pull\, dancing\, games\, midnight champagne toast and silent auction. For more information\, visit www.soulsharbornwa.org.
URL:https://3wmagazine.com/event/viva-las-vegas-new-years-eve-with-soul-2019/
LOCATION:Four Points by Sheraton\, 211 SE Walton Blvd.\, Bentonville\, AR\, 72712\, United States
CATEGORIES:December,Happenings
ATTACH;FMTTYPE=image/jpeg:https://3wmagazine.com/wp-content/uploads/2019/07/48390523_1583074788504465_2699240916647936_n-e1564420922417.jpg
END:VEVENT
END:VCALENDAR