BEGIN:VCALENDAR
VERSION:2.0
PRODID:-//3W Magazine - ECPv6.15.20//NONSGML v1.0//EN
CALSCALE:GREGORIAN
METHOD:PUBLISH
X-ORIGINAL-URL:https://3wmagazine.com
X-WR-CALDESC:Events for 3W Magazine
REFRESH-INTERVAL;VALUE=DURATION:PT1H
X-Robots-Tag:noindex
X-PUBLISHED-TTL:PT1H
BEGIN:VTIMEZONE
TZID:America/Denver
BEGIN:DAYLIGHT
TZOFFSETFROM:-0700
TZOFFSETTO:-0600
TZNAME:MDT
DTSTART:20190310T090000
END:DAYLIGHT
BEGIN:STANDARD
TZOFFSETFROM:-0600
TZOFFSETTO:-0700
TZNAME:MST
DTSTART:20191103T080000
END:STANDARD
BEGIN:DAYLIGHT
TZOFFSETFROM:-0700
TZOFFSETTO:-0600
TZNAME:MDT
DTSTART:20200308T090000
END:DAYLIGHT
BEGIN:STANDARD
TZOFFSETFROM:-0600
TZOFFSETTO:-0700
TZNAME:MST
DTSTART:20201101T080000
END:STANDARD
BEGIN:DAYLIGHT
TZOFFSETFROM:-0700
TZOFFSETTO:-0600
TZNAME:MDT
DTSTART:20210314T090000
END:DAYLIGHT
BEGIN:STANDARD
TZOFFSETFROM:-0600
TZOFFSETTO:-0700
TZNAME:MST
DTSTART:20211107T080000
END:STANDARD
END:VTIMEZONE
BEGIN:VEVENT
DTSTART;VALUE=DATE:20200117
DTEND;VALUE=DATE:20200118
DTSTAMP:20260421T151610
CREATED:20191216T155337Z
LAST-MODIFIED:20191217T211918Z
UID:1009338-1579219200-1579305599@3wmagazine.com
SUMMARY:Season 35 Announcement Party
DESCRIPTION:This party at Arkansas Public Theatre in Rogers will feature the unveiling of the theatre’s season 35. For more information\, visit www.arkansaspublictheatre.org.
URL:https://3wmagazine.com/event/season-35-announcement-party-2020/
LOCATION:Arkansas Public Theatre\, 116 S. Second St.\, Rogers\, AR\, 72756\, United States
CATEGORIES:Happenings,January,Sponsored
ATTACH;FMTTYPE=image/png:https://3wmagazine.com/wp-content/uploads/2019/12/APT-logo-for-calendar.png
END:VEVENT
BEGIN:VEVENT
DTSTART;TZID=America/Denver:20200120T190000
DTEND;TZID=America/Denver:20200120T190000
DTSTAMP:20260421T151610
CREATED:20191216T155857Z
LAST-MODIFIED:20191217T212146Z
UID:1009341-1579546800-1579546800@3wmagazine.com
SUMMARY:Recommitment Banquet
DESCRIPTION:Scholarships will be awarded and local individuals will be honored for outstanding community service at the Fayetteville Town Center. For more information\, visit www.nwamlk.org.
URL:https://3wmagazine.com/event/recommitment-banquet-2020/
LOCATION:Fayetteville Town Center\, 15 West Mountain\, Fayetteville\, AR\, 72701\, United States
CATEGORIES:Happenings,January,Sponsored
ATTACH;FMTTYPE=image/jpeg:https://3wmagazine.com/wp-content/uploads/2019/01/MLK-1.jpg
END:VEVENT
BEGIN:VEVENT
DTSTART;VALUE=DATE:20200122
DTEND;VALUE=DATE:20200127
DTSTAMP:20260421T151610
CREATED:20191216T161152Z
LAST-MODIFIED:20200121T170511Z
UID:1009343-1579651200-1580083199@3wmagazine.com
SUMMARY:The Royale
DESCRIPTION:Told in a boxing ring over six rounds\, “The Royale” is an electrifying adrenaline rush that shows us the human cost of making history. From playwright Marco Ramirez comes a story inspired by the real-world boxer Jack Johnson who — as a black man at the height of the Jim Crow era – became the Heavyweight Champion of the World. For more details\, visit www.theatre2.org.
URL:https://3wmagazine.com/event/the-royale-week-1-2020/
LOCATION:TheatreSquared\, 477 W. Spring St.\, Fayetteville\, AR\, 72701\, United States
CATEGORIES:Happenings,January,Sponsored
ATTACH;FMTTYPE=image/jpeg:https://3wmagazine.com/wp-content/uploads/2020/01/Show-Website-Page-Header-The-Royale-1920x1080-2-e1579626298892.jpg
END:VEVENT
BEGIN:VEVENT
DTSTART;TZID=America/Denver:20200124T190000
DTEND;TZID=America/Denver:20200124T190000
DTSTAMP:20260421T151610
CREATED:20191216T163917Z
LAST-MODIFIED:20191217T212309Z
UID:1009353-1579892400-1579892400@3wmagazine.com
SUMMARY:Paint the Town Red
DESCRIPTION:This “party with a purpose” at the Fayetteville Town Center brings together philanthropic young professionals in support of AHA’s mission: building healthier lives free of cardiovascular diseases and strokes. The event includes fare from local restaurants\, beverages\, a silent auction and entertainment. For more information\, visit nwapaintthetownred.heart.org.
URL:https://3wmagazine.com/event/paint-the-town-red-2020/
LOCATION:Fayetteville Town Center\, 15 West Mountain\, Fayetteville\, AR\, 72701\, United States
CATEGORIES:Happenings,January
ATTACH;FMTTYPE=image/png:https://3wmagazine.com/wp-content/uploads/2019/12/AHA-Paint-the-Town-Red-2020-calendar-logo.png
END:VEVENT
BEGIN:VEVENT
DTSTART;TZID=America/Denver:20200125T180000
DTEND;TZID=America/Denver:20200125T180000
DTSTAMP:20260421T151610
CREATED:20191216T165459Z
LAST-MODIFIED:20200107T173106Z
UID:1009359-1579975200-1579975200@3wmagazine.com
SUMMARY:All In Northwest Arkansas
DESCRIPTION:This casino-themed charity event at the Embassy Suites benefiting Teen Action & Support Center features dinner and casino games. For more details\, visit www.tascnwa.org.
URL:https://3wmagazine.com/event/all-in-northwest-arkansas-2020/
LOCATION:Embassy Suites\, 3303 S. Pinnacle Hills Pkwy.\, Rogers\, AR\, 72758\, United States
CATEGORIES:Happenings,January,Sponsored
ATTACH;FMTTYPE=image/png:https://3wmagazine.com/wp-content/uploads/2019/12/TASC-All-In-Northwest-Arkansas-calendar-logo-2020.png
END:VEVENT
BEGIN:VEVENT
DTSTART;TZID=America/Denver:20200125T180000
DTEND;TZID=America/Denver:20200125T210000
DTSTAMP:20260421T151610
CREATED:20191216T164408Z
LAST-MODIFIED:20191217T213354Z
UID:1009356-1579975200-1579986000@3wmagazine.com
SUMMARY:Scrabble Wars
DESCRIPTION:Compete against other Scrabble teams and enjoy live and silent auctions\, raffles and more at the DoubleTree Suites in Bentonville. For details\, visit www.goliteracy.org.
URL:https://3wmagazine.com/event/scrabble-wars-2020/
LOCATION:DoubleTree Suites\, 301 SE Walton Blvd\, Bentonville\, AR\, 72712\, United States
CATEGORIES:Happenings,January,Sponsored
ATTACH;FMTTYPE=image/png:https://3wmagazine.com/wp-content/uploads/2019/12/LCBC-scrabble-wars-2020-calendar-logo.png
END:VEVENT
BEGIN:VEVENT
DTSTART;TZID=America/Denver:20200126T160000
DTEND;TZID=America/Denver:20200126T160000
DTSTAMP:20260421T151610
CREATED:20191216T171654Z
LAST-MODIFIED:20191217T213059Z
UID:1009362-1580054400-1580054400@3wmagazine.com
SUMMARY:Soup Sunday
DESCRIPTION:This family-friendly fundraiser at the John Q. Hammons Center helps to improve the lives of low-income families by changing public policy. Guests enjoy varieties of soups\, breads and desserts donated by local restaurants. For more details\, visit www.aradvocates.org.
URL:https://3wmagazine.com/event/soup-sunday-2020/
LOCATION:John Q. Hammons Center\, 3303 S. Pinnacle Hills Pkwy.\, Rogers\, AR\, 72758\, United States
CATEGORIES:Family-Friendly,Happenings,January,Sponsored
ATTACH;FMTTYPE=image/png:https://3wmagazine.com/wp-content/uploads/2019/12/Soup-Sunday-2020-calendar-logo.png
END:VEVENT
BEGIN:VEVENT
DTSTART;VALUE=DATE:20200128
DTEND;VALUE=DATE:20200203
DTSTAMP:20260421T151610
CREATED:20191216T161631Z
LAST-MODIFIED:20200121T170609Z
UID:1009347-1580169600-1580687999@3wmagazine.com
SUMMARY:The Royale
DESCRIPTION:Told in a boxing ring over six rounds\, “The Royale” is an electrifying adrenaline rush that shows us the human cost of making history. From playwright Marco Ramirez comes a story inspired by the real-world boxer Jack Johnson who — as a black man at the height of the Jim Crow era – became the Heavyweight Champion of the World. For more details\, visit www.theatre2.org.
URL:https://3wmagazine.com/event/the-royale-week-2-2020/
LOCATION:TheatreSquared\, 477 W. Spring St.\, Fayetteville\, AR\, 72701\, United States
CATEGORIES:February,Happenings,January,Sponsored
ATTACH;FMTTYPE=image/jpeg:https://3wmagazine.com/wp-content/uploads/2020/01/Show-Website-Page-Header-The-Royale-1920x1080-2-e1579626298892.jpg
END:VEVENT
BEGIN:VEVENT
DTSTART;TZID=America/Denver:20200131T190000
DTEND;TZID=America/Denver:20200131T230000
DTSTAMP:20260421T151610
CREATED:20191216T174615Z
LAST-MODIFIED:20191217T214647Z
UID:1009365-1580497200-1580511600@3wmagazine.com
SUMMARY:Moonlight Masquerade
DESCRIPTION:Enjoy a night of food\, drinks and dancing while wearing festive masks at the Fayetteville Town Center to benefit Junior League of Northwest Arkansas’ community impact focus of unmasking domestic violence in Northwest Arkansas. Cocktail attire\, festive masks and/or theatrical hair & makeup are strongly encouraged. For details\, visit www.juniorleaguenwa.org/moonlight.
URL:https://3wmagazine.com/event/moonlight-masquerade-2020/
LOCATION:Fayetteville Town Center\, 15 West Mountain\, Fayetteville\, AR\, 72701\, United States
CATEGORIES:Happenings,January,Sponsored
ATTACH;FMTTYPE=image/png:https://3wmagazine.com/wp-content/uploads/2019/12/JLNWA-Moonlight-Masquerade-2020-calendar-logo-2.png
END:VEVENT
END:VCALENDAR