BEGIN:VCALENDAR
VERSION:2.0
PRODID:-//3W Magazine - ECPv6.15.20//NONSGML v1.0//EN
CALSCALE:GREGORIAN
METHOD:PUBLISH
X-WR-CALNAME:3W Magazine
X-ORIGINAL-URL:https://3wmagazine.com
X-WR-CALDESC:Events for 3W Magazine
REFRESH-INTERVAL;VALUE=DURATION:PT1H
X-Robots-Tag:noindex
X-PUBLISHED-TTL:PT1H
BEGIN:VTIMEZONE
TZID:America/Denver
BEGIN:DAYLIGHT
TZOFFSETFROM:-0700
TZOFFSETTO:-0600
TZNAME:MDT
DTSTART:20200308T090000
END:DAYLIGHT
BEGIN:STANDARD
TZOFFSETFROM:-0600
TZOFFSETTO:-0700
TZNAME:MST
DTSTART:20201101T080000
END:STANDARD
BEGIN:DAYLIGHT
TZOFFSETFROM:-0700
TZOFFSETTO:-0600
TZNAME:MDT
DTSTART:20210314T090000
END:DAYLIGHT
BEGIN:STANDARD
TZOFFSETFROM:-0600
TZOFFSETTO:-0700
TZNAME:MST
DTSTART:20211107T080000
END:STANDARD
BEGIN:DAYLIGHT
TZOFFSETFROM:-0700
TZOFFSETTO:-0600
TZNAME:MDT
DTSTART:20220313T090000
END:DAYLIGHT
BEGIN:STANDARD
TZOFFSETFROM:-0600
TZOFFSETTO:-0700
TZNAME:MST
DTSTART:20221106T080000
END:STANDARD
END:VTIMEZONE
BEGIN:VEVENT
DTSTART;VALUE=DATE:20210120
DTEND;VALUE=DATE:20210315
DTSTAMP:20260424T004014
CREATED:20201221T220245Z
LAST-MODIFIED:20210301T025321Z
UID:1011193-1611100800-1615766399@3wmagazine.com
SUMMARY:School Girls; Or\, The African Mean Girls Play
DESCRIPTION:Paulina\, the reigning queen at Ghana’s most exclusive boarding school\, is sure she’s a lock for the Miss Global Universe pageant – until a new rival arrives. For more details\, visit www.theatre2.org.
URL:https://3wmagazine.com/event/school-girls-or-the-african-mean-girls-play-2021/
LOCATION:TheatreSquared\, 477 W. Spring St.\, Fayetteville\, AR\, 72701\, United States
CATEGORIES:February,January,March
ATTACH;FMTTYPE=image/png:https://3wmagazine.com/wp-content/uploads/2021/01/school-girls-T2-graphic-400-x-300.png
END:VEVENT
BEGIN:VEVENT
DTSTART;VALUE=DATE:20210304
DTEND;VALUE=DATE:20210305
DTSTAMP:20260424T004014
CREATED:20210105T195852Z
LAST-MODIFIED:20210225T163440Z
UID:1011296-1614816000-1614902399@3wmagazine.com
SUMMARY:Hall of Honor
DESCRIPTION:The Hall of Honor will be held virtually in 2021. The ceremony will be accessible to everyone in our community to allow as many people as possible the opportunity to pay tribute to the 2020 inductees. The Hall of Honor recognizes educators\, alumni and friends who have made extraordinary contributions to public education in Fayetteville. For more information\, visit www.fayedfoundation.org.
URL:https://3wmagazine.com/event/hall-of-honor-2021/
CATEGORIES:March,Sponsored
ATTACH;FMTTYPE=image/png:https://3wmagazine.com/wp-content/uploads/2021/01/Copy-of-2020-hall-of-honor-1-e1614270807385.png
END:VEVENT
BEGIN:VEVENT
DTSTART;VALUE=DATE:20210304
DTEND;VALUE=DATE:20210308
DTSTAMP:20260424T004014
CREATED:20210105T194251Z
LAST-MODIFIED:20210126T200158Z
UID:1011290-1614816000-1615161599@3wmagazine.com
SUMMARY:The Clean House
DESCRIPTION:The play takes place in a “metaphysical Connecticut\,” mostly in the home of a married couple who are both doctors. They have hired a housekeeper named Matilde\, an aspiring comedian from Brazil who’s more interested in coming up with the perfect joke than in house-cleaning. For more details\, visit www.arkansaspublictheatre.org.
URL:https://3wmagazine.com/event/the-clean-house-weekend-2-2021/
CATEGORIES:March
ATTACH;FMTTYPE=image/jpeg:https://3wmagazine.com/wp-content/uploads/2021/01/ACleanHouse-1.jpeg
END:VEVENT
BEGIN:VEVENT
DTSTART;VALUE=DATE:20210313
DTEND;VALUE=DATE:20210314
DTSTAMP:20260424T004014
CREATED:20210105T200322Z
LAST-MODIFIED:20210105T200339Z
UID:1011300-1615593600-1615679999@3wmagazine.com
SUMMARY:Hogs for Hope Dance Marathon
DESCRIPTION:Students at the University of Arkansas host a 12-hour dance marathon to raise funds for Arkansas Children’s Northwest. Visit www.hogsforhope.com for more information.
URL:https://3wmagazine.com/event/hogs-for-hope-dance-marathon-2021/
CATEGORIES:March
END:VEVENT
BEGIN:VEVENT
DTSTART;VALUE=DATE:20210313
DTEND;VALUE=DATE:20210314
DTSTAMP:20260424T004014
CREATED:20210105T201312Z
LAST-MODIFIED:20210301T024959Z
UID:1011303-1615593600-1615679999@3wmagazine.com
SUMMARY:***POSTPONED*** - Arkansas Miss Amazing
DESCRIPTION:***POSTPONED*** – Arkansas Miss Amazing is an annual self-advocacy event for young women with special needs age 5 and older. The event is a “pageant” where amazing ladies are able to show off their true beauty and talents on-stage\, all while meeting new friends and making lifetime memories. For more details\, visit ar.missamazing.org.
URL:https://3wmagazine.com/event/arkansas-miss-amazing-2021/
CATEGORIES:March
ATTACH;FMTTYPE=image/png:https://3wmagazine.com/wp-content/uploads/2021/01/16797802_1833125216925875_1133749216238881290_o-e1614566979599.png
END:VEVENT
BEGIN:VEVENT
DTSTART;VALUE=DATE:20210320
DTEND;VALUE=DATE:20210321
DTSTAMP:20260424T004014
CREATED:20210203T164536Z
LAST-MODIFIED:20210301T062111Z
UID:1011767-1616198400-1616284799@3wmagazine.com
SUMMARY:Nutty Runner 5K
DESCRIPTION:The Nutty Runner 5K will be making its return March 20\, only this year it is getting NuttyER! 2020 was crazy and we want to move on and celebrate good times with good friends and good beer (masked up and socially distanced of course!) \nOur 2021 race is being adapted into a downtown team scavenger hunt! Form a team of 2-4 people and be prepared to run a 3-4ish mile route (depending upon which direction you choose!) Solve riddles that will lead to various businesses downtown and expect 3 Nutty Runner Nut Brown Ales (by Columbus House Brewery) to be consumed along the way! The scavenger hunt starts at the Walton Arts Center parking lot\, where it ends-you will have to see! (But rest assured that if you park downtown\, you will not be far from your car!) Teams will need to designate 1 member to download and use Strava in order to be considered for overall prizes. Teams will have 1.5 hours to complete the course (this averages to about 22.5 min/mile-assuming the longest route of 4 miles). \nFor the more cautious souls who don’t feel the need to drink and run\, there’s the Designated Driver division. But however you choose to participate\, there will be additional shirts\, and Nutty Runner merch available for purchase at the finish line. \nAll proceeds benefit The Spark Foundation\, a local Fayetteville nonprofit with a mission to create a positive impact in the community by providing increased access to health and fitness education and opportunities. For more details\, visit www.nuttyrunner5k.com.
URL:https://3wmagazine.com/event/nutty-runner-5k-2021/
CATEGORIES:March,Sponsored
ATTACH;FMTTYPE=image/png:https://3wmagazine.com/wp-content/uploads/2021/02/1d4b1399-9a21-456f-a885-ceadcd3eafbb-e1612370714540.png
END:VEVENT
BEGIN:VEVENT
DTSTART;VALUE=DATE:20210326
DTEND;VALUE=DATE:20210329
DTSTAMP:20260424T004014
CREATED:20210121T202309Z
LAST-MODIFIED:20210121T202322Z
UID:1011352-1616716800-1616975999@3wmagazine.com
SUMMARY:The Lifespan of a Fact
DESCRIPTION:Jim Fingal is a fresh-out-of-Harvard fact checker for a prominent but sinking New York magazine. John D’Agata is a talented writer with a transcendent essay about the suicide of a teenage boy — an essay that could save the magazine from collapse. When Jim is assigned to fact check D’Agata’s essay\, the two come head to head in a comedic yet gripping battle over facts versus truth. For more details\, visit www.arkansaspublictheatre.org.
URL:https://3wmagazine.com/event/the-lifespan-of-a-fact-weekend-1-2021/
CATEGORIES:March
ATTACH;FMTTYPE=image/jpeg:https://3wmagazine.com/wp-content/uploads/2021/01/137328077_10159004258004182_376653103071198307_n-e1611260528131.jpg
END:VEVENT
BEGIN:VEVENT
DTSTART;VALUE=DATE:20210328
DTEND;VALUE=DATE:20210331
DTSTAMP:20260424T004014
CREATED:20210301T033525Z
LAST-MODIFIED:20210301T143201Z
UID:1011887-1616889600-1617148799@3wmagazine.com
SUMMARY:Shooting for Scholarships
DESCRIPTION:Shooting for Scholarships March Madness fundraiser will be hosted by Arkansas Athletes Outreach (AAO). From March 28-30\, teams will compete to score the most free-throws out of 100. Prior to the event\, donate to your favorite team with a specific amount or pledge an amount per shot made. All proceeds go to the AAO Scholarship Program\, supporting the area youth to participate in the gold standard leagues\, clubs\, and training the nonprofit has provided for the last 30 years. For more details\, visit www.aaoteam.org.
URL:https://3wmagazine.com/event/shooting-for-scholarships-2021/
CATEGORIES:March,Sponsored
ATTACH;FMTTYPE=image/png:https://3wmagazine.com/wp-content/uploads/2021/02/Screen-Shot-2021-02-28-at-9.32.13-PM-1.png
END:VEVENT
END:VCALENDAR