BEGIN:VCALENDAR
VERSION:2.0
PRODID:-//3W Magazine - ECPv6.15.20//NONSGML v1.0//EN
CALSCALE:GREGORIAN
METHOD:PUBLISH
X-WR-CALNAME:3W Magazine
X-ORIGINAL-URL:https://3wmagazine.com
X-WR-CALDESC:Events for 3W Magazine
REFRESH-INTERVAL;VALUE=DURATION:PT1H
X-Robots-Tag:noindex
X-PUBLISHED-TTL:PT1H
BEGIN:VTIMEZONE
TZID:America/Denver
BEGIN:DAYLIGHT
TZOFFSETFROM:-0700
TZOFFSETTO:-0600
TZNAME:MDT
DTSTART:20240310T090000
END:DAYLIGHT
BEGIN:STANDARD
TZOFFSETFROM:-0600
TZOFFSETTO:-0700
TZNAME:MST
DTSTART:20241103T080000
END:STANDARD
BEGIN:DAYLIGHT
TZOFFSETFROM:-0700
TZOFFSETTO:-0600
TZNAME:MDT
DTSTART:20250309T090000
END:DAYLIGHT
BEGIN:STANDARD
TZOFFSETFROM:-0600
TZOFFSETTO:-0700
TZNAME:MST
DTSTART:20251102T080000
END:STANDARD
BEGIN:DAYLIGHT
TZOFFSETFROM:-0700
TZOFFSETTO:-0600
TZNAME:MDT
DTSTART:20260308T090000
END:DAYLIGHT
BEGIN:STANDARD
TZOFFSETFROM:-0600
TZOFFSETTO:-0700
TZNAME:MST
DTSTART:20261101T080000
END:STANDARD
BEGIN:DAYLIGHT
TZOFFSETFROM:-0700
TZOFFSETTO:-0600
TZNAME:MDT
DTSTART:20270314T090000
END:DAYLIGHT
BEGIN:STANDARD
TZOFFSETFROM:-0600
TZOFFSETTO:-0700
TZNAME:MST
DTSTART:20271107T080000
END:STANDARD
END:VTIMEZONE
BEGIN:VEVENT
DTSTART;VALUE=DATE:20250315
DTEND;VALUE=DATE:20250729
DTSTAMP:20260421T211152
CREATED:20250112T232746Z
LAST-MODIFIED:20250112T232843Z
UID:1022445-1741996800-1753747199@3wmagazine.com
SUMMARY:KAWS: FAMILY
DESCRIPTION:
URL:https://3wmagazine.com/event/kaws-family-2025/
CATEGORIES:April,July,June,March,May
END:VEVENT
BEGIN:VEVENT
DTSTART;VALUE=DATE:20250524
DTEND;VALUE=DATE:20251013
DTSTAMP:20260421T211152
CREATED:20250113T043511Z
LAST-MODIFIED:20250113T043546Z
UID:1022640-1748044800-1760313599@3wmagazine.com
SUMMARY:The Prison Concerts: Folsom and San Quentin (Jim Marshall’s Photographs of Johnny Cash)
DESCRIPTION:
URL:https://3wmagazine.com/event/the-prison-concerts-folsom-and-san-quentin-jim-marshalls-photographs-of-johnny-cash-2025/
CATEGORIES:August,July,June,May,October,September
END:VEVENT
BEGIN:VEVENT
DTSTART;VALUE=DATE:20250524
DTEND;VALUE=DATE:20251013
DTSTAMP:20260421T211152
CREATED:20250113T043730Z
LAST-MODIFIED:20250113T043836Z
UID:1022643-1748044800-1760313599@3wmagazine.com
SUMMARY:Front Row Center: Icons of Rock\, Blues\, and Soul
DESCRIPTION:
URL:https://3wmagazine.com/event/front-row-center-icons-of-rock-blues-and-soul-2025/
CATEGORIES:August,July,June,May,October,September
END:VEVENT
BEGIN:VEVENT
DTSTART;VALUE=DATE:20250524
DTEND;VALUE=DATE:20260608
DTSTAMP:20260421T211152
CREATED:20250113T044252Z
LAST-MODIFIED:20260114T214803Z
UID:1022647-1748044800-1780876799@3wmagazine.com
SUMMARY:The Machine Behind the Art: Inside JR’s Printing Press
DESCRIPTION:
URL:https://3wmagazine.com/event/the-machine-behind-the-art-inside-jrs-printing-press-2025/
CATEGORIES:August,December,Exhibit,July,June,May,November,October,September
END:VEVENT
BEGIN:VEVENT
DTSTART;VALUE=DATE:20250703
DTEND;VALUE=DATE:20250704
DTSTAMP:20260421T211152
CREATED:20250113T052520Z
LAST-MODIFIED:20250113T052543Z
UID:1022717-1751500800-1751587199@3wmagazine.com
SUMMARY:Pint for a Pint Blood Drive
DESCRIPTION:
URL:https://3wmagazine.com/event/pint-for-a-pint-blood-drive-2025/
CATEGORIES:July
END:VEVENT
BEGIN:VEVENT
DTSTART;VALUE=DATE:20250710
DTEND;VALUE=DATE:20250711
DTSTAMP:20260421T211152
CREATED:20250113T052925Z
LAST-MODIFIED:20250113T052942Z
UID:1022720-1752105600-1752191999@3wmagazine.com
SUMMARY:Art on the Bricks
DESCRIPTION:
URL:https://3wmagazine.com/event/art-on-the-bricks-july-2025/
CATEGORIES:July
END:VEVENT
BEGIN:VEVENT
DTSTART;VALUE=DATE:20250712
DTEND;VALUE=DATE:20250713
DTSTAMP:20260421T211152
CREATED:20250113T053056Z
LAST-MODIFIED:20250113T053114Z
UID:1022725-1752278400-1752364799@3wmagazine.com
SUMMARY:Paradise Found 5K
DESCRIPTION:
URL:https://3wmagazine.com/event/paradise-found-5k-2025/
CATEGORIES:July
END:VEVENT
BEGIN:VEVENT
DTSTART;VALUE=DATE:20250715
DTEND;VALUE=DATE:20250716
DTSTAMP:20260421T211152
CREATED:20250113T053229Z
LAST-MODIFIED:20250113T053244Z
UID:1022728-1752537600-1752623999@3wmagazine.com
SUMMARY:Angels Paying it Forward Impact Celebration
DESCRIPTION:
URL:https://3wmagazine.com/event/angels-paying-it-forward-impact-celebration-2025/
CATEGORIES:July
END:VEVENT
BEGIN:VEVENT
DTSTART;VALUE=DATE:20250717
DTEND;VALUE=DATE:20250728
DTSTAMP:20260421T211152
CREATED:20250113T053405Z
LAST-MODIFIED:20250113T053441Z
UID:1022731-1752710400-1753660799@3wmagazine.com
SUMMARY:"The Wizard of Oz"
DESCRIPTION:
URL:https://3wmagazine.com/event/the-wizard-of-oz-2025/
CATEGORIES:July
END:VEVENT
BEGIN:VEVENT
DTSTART;VALUE=DATE:20250719
DTEND;VALUE=DATE:20250720
DTSTAMP:20260421T211152
CREATED:20250113T053601Z
LAST-MODIFIED:20250113T053845Z
UID:1022734-1752883200-1752969599@3wmagazine.com
SUMMARY:Greg Krisell Biggin' in the Boat Baggo Tournament
DESCRIPTION:
URL:https://3wmagazine.com/event/greg-krisell-biggin-in-the-boat-baggo-tournament-2025/
CATEGORIES:July
END:VEVENT
BEGIN:VEVENT
DTSTART;VALUE=DATE:20250719
DTEND;VALUE=DATE:20250720
DTSTAMP:20260421T211152
CREATED:20250113T053942Z
LAST-MODIFIED:20250113T054000Z
UID:1022737-1752883200-1752969599@3wmagazine.com
SUMMARY:Firefly Fling
DESCRIPTION:
URL:https://3wmagazine.com/event/firefly-fling-2025/
CATEGORIES:July
END:VEVENT
BEGIN:VEVENT
DTSTART;VALUE=DATE:20250724
DTEND;VALUE=DATE:20250725
DTSTAMP:20260421T211152
CREATED:20250113T054102Z
LAST-MODIFIED:20250113T054120Z
UID:1022740-1753315200-1753401599@3wmagazine.com
SUMMARY:Spark of Hope
DESCRIPTION:
URL:https://3wmagazine.com/event/spark-of-hope-2025/
CATEGORIES:July
END:VEVENT
BEGIN:VEVENT
DTSTART;VALUE=DATE:20250726
DTEND;VALUE=DATE:20250727
DTSTAMP:20260421T211152
CREATED:20250113T054229Z
LAST-MODIFIED:20250113T054320Z
UID:1022743-1753488000-1753574399@3wmagazine.com
SUMMARY:Dream Big Charity Gala
DESCRIPTION:
URL:https://3wmagazine.com/event/dream-big-charity-gala-2025/
CATEGORIES:July
END:VEVENT
BEGIN:VEVENT
DTSTART;VALUE=DATE:20250731
DTEND;VALUE=DATE:20250802
DTSTAMP:20260421T211152
CREATED:20250113T054430Z
LAST-MODIFIED:20250113T054456Z
UID:1022746-1753920000-1754092799@3wmagazine.com
SUMMARY:Will Golf 4 Kids
DESCRIPTION:
URL:https://3wmagazine.com/event/will-golf-4-kids-2025/
CATEGORIES:August,July
END:VEVENT
END:VCALENDAR