BEGIN:VCALENDAR
VERSION:2.0
PRODID:-//3W Magazine - ECPv6.15.20//NONSGML v1.0//EN
CALSCALE:GREGORIAN
METHOD:PUBLISH
X-WR-CALNAME:3W Magazine
X-ORIGINAL-URL:https://3wmagazine.com
X-WR-CALDESC:Events for 3W Magazine
REFRESH-INTERVAL;VALUE=DURATION:PT1H
X-Robots-Tag:noindex
X-PUBLISHED-TTL:PT1H
BEGIN:VTIMEZONE
TZID:America/Denver
BEGIN:DAYLIGHT
TZOFFSETFROM:-0700
TZOFFSETTO:-0600
TZNAME:MDT
DTSTART:20240310T090000
END:DAYLIGHT
BEGIN:STANDARD
TZOFFSETFROM:-0600
TZOFFSETTO:-0700
TZNAME:MST
DTSTART:20241103T080000
END:STANDARD
BEGIN:DAYLIGHT
TZOFFSETFROM:-0700
TZOFFSETTO:-0600
TZNAME:MDT
DTSTART:20250309T090000
END:DAYLIGHT
BEGIN:STANDARD
TZOFFSETFROM:-0600
TZOFFSETTO:-0700
TZNAME:MST
DTSTART:20251102T080000
END:STANDARD
BEGIN:DAYLIGHT
TZOFFSETFROM:-0700
TZOFFSETTO:-0600
TZNAME:MDT
DTSTART:20260308T090000
END:DAYLIGHT
BEGIN:STANDARD
TZOFFSETFROM:-0600
TZOFFSETTO:-0700
TZNAME:MST
DTSTART:20261101T080000
END:STANDARD
BEGIN:DAYLIGHT
TZOFFSETFROM:-0700
TZOFFSETTO:-0600
TZNAME:MDT
DTSTART:20270314T090000
END:DAYLIGHT
BEGIN:STANDARD
TZOFFSETFROM:-0600
TZOFFSETTO:-0700
TZNAME:MST
DTSTART:20271107T080000
END:STANDARD
END:VTIMEZONE
BEGIN:VEVENT
DTSTART;VALUE=DATE:20250524
DTEND;VALUE=DATE:20251013
DTSTAMP:20260421T211208
CREATED:20250113T043511Z
LAST-MODIFIED:20250113T043546Z
UID:1022640-1748044800-1760313599@3wmagazine.com
SUMMARY:The Prison Concerts: Folsom and San Quentin (Jim Marshall’s Photographs of Johnny Cash)
DESCRIPTION:
URL:https://3wmagazine.com/event/the-prison-concerts-folsom-and-san-quentin-jim-marshalls-photographs-of-johnny-cash-2025/
CATEGORIES:August,July,June,May,October,September
END:VEVENT
BEGIN:VEVENT
DTSTART;VALUE=DATE:20250524
DTEND;VALUE=DATE:20251013
DTSTAMP:20260421T211208
CREATED:20250113T043730Z
LAST-MODIFIED:20250113T043836Z
UID:1022643-1748044800-1760313599@3wmagazine.com
SUMMARY:Front Row Center: Icons of Rock\, Blues\, and Soul
DESCRIPTION:
URL:https://3wmagazine.com/event/front-row-center-icons-of-rock-blues-and-soul-2025/
CATEGORIES:August,July,June,May,October,September
END:VEVENT
BEGIN:VEVENT
DTSTART;VALUE=DATE:20250524
DTEND;VALUE=DATE:20260608
DTSTAMP:20260421T211208
CREATED:20250113T044252Z
LAST-MODIFIED:20260114T214803Z
UID:1022647-1748044800-1780876799@3wmagazine.com
SUMMARY:The Machine Behind the Art: Inside JR’s Printing Press
DESCRIPTION:
URL:https://3wmagazine.com/event/the-machine-behind-the-art-inside-jrs-printing-press-2025/
CATEGORIES:August,December,Exhibit,July,June,May,November,October,September
END:VEVENT
BEGIN:VEVENT
DTSTART;VALUE=DATE:20250731
DTEND;VALUE=DATE:20250802
DTSTAMP:20260421T211208
CREATED:20250113T054430Z
LAST-MODIFIED:20250113T054456Z
UID:1022746-1753920000-1754092799@3wmagazine.com
SUMMARY:Will Golf 4 Kids
DESCRIPTION:
URL:https://3wmagazine.com/event/will-golf-4-kids-2025/
CATEGORIES:August,July
END:VEVENT
BEGIN:VEVENT
DTSTART;VALUE=DATE:20250801
DTEND;VALUE=DATE:20250802
DTSTAMP:20260421T211208
CREATED:20250113T054609Z
LAST-MODIFIED:20250113T054716Z
UID:1022749-1754006400-1754092799@3wmagazine.com
SUMMARY:Gala of Hope
DESCRIPTION:
URL:https://3wmagazine.com/event/gala-of-hope-2025/
CATEGORIES:August
END:VEVENT
BEGIN:VEVENT
DTSTART;VALUE=DATE:20250801
DTEND;VALUE=DATE:20250802
DTSTAMP:20260421T211208
CREATED:20250512T165621Z
LAST-MODIFIED:20250512T165920Z
UID:1024965-1754006400-1754092799@3wmagazine.com
SUMMARY:Sneakers at the Stadium
DESCRIPTION:
URL:https://3wmagazine.com/event/sneakers-at-the-stadium-2025/
CATEGORIES:August
END:VEVENT
BEGIN:VEVENT
DTSTART;VALUE=DATE:20250807
DTEND;VALUE=DATE:20250812
DTSTAMP:20260421T211208
CREATED:20250113T054848Z
LAST-MODIFIED:20250113T054951Z
UID:1022752-1754524800-1754956799@3wmagazine.com
SUMMARY:NWA Challenge for Hope
DESCRIPTION:
URL:https://3wmagazine.com/event/nwa-challenge-for-hope-2025/
CATEGORIES:August
END:VEVENT
BEGIN:VEVENT
DTSTART;VALUE=DATE:20250808
DTEND;VALUE=DATE:20250809
DTSTAMP:20260421T211208
CREATED:20250512T170246Z
LAST-MODIFIED:20250512T170351Z
UID:1024968-1754611200-1754697599@3wmagazine.com
SUMMARY:A Toast to Health
DESCRIPTION:
URL:https://3wmagazine.com/event/a-toast-to-health-2025/
LOCATION:Fayetteville Town Center\, 15 West Mountain\, Fayetteville\, AR\, 72701\, United States
CATEGORIES:August
END:VEVENT
BEGIN:VEVENT
DTSTART;VALUE=DATE:20250809
DTEND;VALUE=DATE:20250810
DTSTAMP:20260421T211208
CREATED:20250113T055049Z
LAST-MODIFIED:20250113T060253Z
UID:1022755-1754697600-1754783999@3wmagazine.com
SUMMARY:Rise Challenge
DESCRIPTION:
URL:https://3wmagazine.com/event/rise-challenge-august-2025/
CATEGORIES:August
END:VEVENT
BEGIN:VEVENT
DTSTART;VALUE=DATE:20250814
DTEND;VALUE=DATE:20250815
DTSTAMP:20260421T211208
CREATED:20250113T055430Z
LAST-MODIFIED:20250113T055443Z
UID:1022758-1755129600-1755215999@3wmagazine.com
SUMMARY:Art on the Bricks
DESCRIPTION:
URL:https://3wmagazine.com/event/art-on-the-bricks-august-2025/
CATEGORIES:August
END:VEVENT
BEGIN:VEVENT
DTSTART;VALUE=DATE:20250815
DTEND;VALUE=DATE:20250817
DTSTAMP:20260421T211208
CREATED:20250113T055547Z
LAST-MODIFIED:20250113T055649Z
UID:1022761-1755216000-1755388799@3wmagazine.com
SUMMARY:SOAR NWA
DESCRIPTION:
URL:https://3wmagazine.com/event/soar-nwa-2025/
CATEGORIES:August
END:VEVENT
BEGIN:VEVENT
DTSTART;VALUE=DATE:20250821
DTEND;VALUE=DATE:20250822
DTSTAMP:20260421T211208
CREATED:20250113T055819Z
LAST-MODIFIED:20250113T055835Z
UID:1022764-1755734400-1755820799@3wmagazine.com
SUMMARY:Sip & Savor
DESCRIPTION:
URL:https://3wmagazine.com/event/sip-and-savor-2025/
CATEGORIES:August
END:VEVENT
BEGIN:VEVENT
DTSTART;VALUE=DATE:20250825
DTEND;VALUE=DATE:20250826
DTSTAMP:20260421T211208
CREATED:20250113T060023Z
LAST-MODIFIED:20250113T060034Z
UID:1022767-1756080000-1756166399@3wmagazine.com
SUMMARY:Golf 4 A Cause
DESCRIPTION:
URL:https://3wmagazine.com/event/golf-4-a-cause-2025/
CATEGORIES:August
END:VEVENT
BEGIN:VEVENT
DTSTART;VALUE=DATE:20250829
DTEND;VALUE=DATE:20250901
DTSTAMP:20260421T211208
CREATED:20250113T060135Z
LAST-MODIFIED:20250113T060153Z
UID:1022771-1756425600-1756684799@3wmagazine.com
SUMMARY:Trifest for MS
DESCRIPTION:
URL:https://3wmagazine.com/event/trifest-for-ms-2025/
CATEGORIES:August
END:VEVENT
END:VCALENDAR