BEGIN:VCALENDAR
VERSION:2.0
PRODID:-//3W Magazine - ECPv6.15.20//NONSGML v1.0//EN
CALSCALE:GREGORIAN
METHOD:PUBLISH
X-ORIGINAL-URL:https://3wmagazine.com
X-WR-CALDESC:Events for 3W Magazine
REFRESH-INTERVAL;VALUE=DURATION:PT1H
X-Robots-Tag:noindex
X-PUBLISHED-TTL:PT1H
BEGIN:VTIMEZONE
TZID:America/Denver
BEGIN:DAYLIGHT
TZOFFSETFROM:-0700
TZOFFSETTO:-0600
TZNAME:MDT
DTSTART:20240310T090000
END:DAYLIGHT
BEGIN:STANDARD
TZOFFSETFROM:-0600
TZOFFSETTO:-0700
TZNAME:MST
DTSTART:20241103T080000
END:STANDARD
BEGIN:DAYLIGHT
TZOFFSETFROM:-0700
TZOFFSETTO:-0600
TZNAME:MDT
DTSTART:20250309T090000
END:DAYLIGHT
BEGIN:STANDARD
TZOFFSETFROM:-0600
TZOFFSETTO:-0700
TZNAME:MST
DTSTART:20251102T080000
END:STANDARD
BEGIN:DAYLIGHT
TZOFFSETFROM:-0700
TZOFFSETTO:-0600
TZNAME:MDT
DTSTART:20260308T090000
END:DAYLIGHT
BEGIN:STANDARD
TZOFFSETFROM:-0600
TZOFFSETTO:-0700
TZNAME:MST
DTSTART:20261101T080000
END:STANDARD
BEGIN:DAYLIGHT
TZOFFSETFROM:-0700
TZOFFSETTO:-0600
TZNAME:MDT
DTSTART:20270314T090000
END:DAYLIGHT
BEGIN:STANDARD
TZOFFSETFROM:-0600
TZOFFSETTO:-0700
TZNAME:MST
DTSTART:20271107T080000
END:STANDARD
END:VTIMEZONE
BEGIN:VEVENT
DTSTART;VALUE=DATE:20250524
DTEND;VALUE=DATE:20251013
DTSTAMP:20260421T195010
CREATED:20250113T043511Z
LAST-MODIFIED:20250113T043546Z
UID:1022640-1748044800-1760313599@3wmagazine.com
SUMMARY:The Prison Concerts: Folsom and San Quentin (Jim Marshall’s Photographs of Johnny Cash)
DESCRIPTION:
URL:https://3wmagazine.com/event/the-prison-concerts-folsom-and-san-quentin-jim-marshalls-photographs-of-johnny-cash-2025/
CATEGORIES:August,July,June,May,October,September
END:VEVENT
BEGIN:VEVENT
DTSTART;VALUE=DATE:20250524
DTEND;VALUE=DATE:20251013
DTSTAMP:20260421T195010
CREATED:20250113T043730Z
LAST-MODIFIED:20250113T043836Z
UID:1022643-1748044800-1760313599@3wmagazine.com
SUMMARY:Front Row Center: Icons of Rock\, Blues\, and Soul
DESCRIPTION:
URL:https://3wmagazine.com/event/front-row-center-icons-of-rock-blues-and-soul-2025/
CATEGORIES:August,July,June,May,October,September
END:VEVENT
BEGIN:VEVENT
DTSTART;VALUE=DATE:20250524
DTEND;VALUE=DATE:20260608
DTSTAMP:20260421T195010
CREATED:20250113T044252Z
LAST-MODIFIED:20260114T214803Z
UID:1022647-1748044800-1780876799@3wmagazine.com
SUMMARY:The Machine Behind the Art: Inside JR’s Printing Press
DESCRIPTION:
URL:https://3wmagazine.com/event/the-machine-behind-the-art-inside-jrs-printing-press-2025/
CATEGORIES:August,December,Exhibit,July,June,May,November,October,September
END:VEVENT
BEGIN:VEVENT
DTSTART;VALUE=DATE:20250901
DTEND;VALUE=DATE:20251001
DTSTAMP:20260421T195010
CREATED:20250113T060900Z
LAST-MODIFIED:20250113T060920Z
UID:1022774-1756684800-1759276799@3wmagazine.com
SUMMARY:Hunger Action Month
DESCRIPTION:
URL:https://3wmagazine.com/event/hunger-action-month-2025/
CATEGORIES:September
END:VEVENT
BEGIN:VEVENT
DTSTART;VALUE=DATE:20250903
DTEND;VALUE=DATE:20250905
DTSTAMP:20260421T195010
CREATED:20250113T061032Z
LAST-MODIFIED:20250113T061108Z
UID:1022777-1756857600-1757030399@3wmagazine.com
SUMMARY:Golf Tournament and 19th Hole Dinner Auction
DESCRIPTION:
URL:https://3wmagazine.com/event/golf-tournament-and-19th-hole-dinner-auction-2025/
CATEGORIES:September
END:VEVENT
BEGIN:VEVENT
DTSTART;VALUE=DATE:20250904
DTEND;VALUE=DATE:20250905
DTSTAMP:20260421T195010
CREATED:20250113T025046Z
LAST-MODIFIED:20250407T182354Z
UID:1022518-1756944000-1757030399@3wmagazine.com
SUMMARY:Arts One Presents Gala: Empower the Arts
DESCRIPTION:
URL:https://3wmagazine.com/event/arts-one-presents-gala-empower-the-arts-2025/
CATEGORIES:September
END:VEVENT
BEGIN:VEVENT
DTSTART;VALUE=DATE:20250904
DTEND;VALUE=DATE:20250906
DTSTAMP:20260421T195010
CREATED:20250113T061225Z
LAST-MODIFIED:20250113T061252Z
UID:1022780-1756944000-1757116799@3wmagazine.com
SUMMARY:NWA Finest Golf Tournament and Wine Opener
DESCRIPTION:
URL:https://3wmagazine.com/event/nwa-finest-golf-tournament-and-wine-opener-2025/
CATEGORIES:September
END:VEVENT
BEGIN:VEVENT
DTSTART;VALUE=DATE:20250906
DTEND;VALUE=DATE:20250907
DTSTAMP:20260421T195010
CREATED:20250113T061351Z
LAST-MODIFIED:20250113T061406Z
UID:1022783-1757116800-1757203199@3wmagazine.com
SUMMARY:Vintner Dinner
DESCRIPTION:
URL:https://3wmagazine.com/event/vintner-dinner-2025/
CATEGORIES:September
END:VEVENT
BEGIN:VEVENT
DTSTART;VALUE=DATE:20250906
DTEND;VALUE=DATE:20250907
DTSTAMP:20260421T195010
CREATED:20250113T061447Z
LAST-MODIFIED:20250113T061502Z
UID:1022786-1757116800-1757203199@3wmagazine.com
SUMMARY:Worst Race Ever 5K
DESCRIPTION:
URL:https://3wmagazine.com/event/worst-race-ever-5k-2025/
CATEGORIES:September
END:VEVENT
BEGIN:VEVENT
DTSTART;VALUE=DATE:20250911
DTEND;VALUE=DATE:20250912
DTSTAMP:20260421T195010
CREATED:20250113T061554Z
LAST-MODIFIED:20250113T061614Z
UID:1022789-1757548800-1757635199@3wmagazine.com
SUMMARY:Historical Tastings
DESCRIPTION:
URL:https://3wmagazine.com/event/historical-tastings-2025/
CATEGORIES:September
END:VEVENT
BEGIN:VEVENT
DTSTART;VALUE=DATE:20250911
DTEND;VALUE=DATE:20250912
DTSTAMP:20260421T195010
CREATED:20250113T061700Z
LAST-MODIFIED:20250113T061714Z
UID:1022792-1757548800-1757635199@3wmagazine.com
SUMMARY:Art on the Bricks
DESCRIPTION:
URL:https://3wmagazine.com/event/art-on-the-bricks-september-2025/
CATEGORIES:September
END:VEVENT
BEGIN:VEVENT
DTSTART;VALUE=DATE:20250913
DTEND;VALUE=DATE:20250914
DTSTAMP:20260421T195010
CREATED:20250113T061834Z
LAST-MODIFIED:20250113T061856Z
UID:1022795-1757721600-1757807999@3wmagazine.com
SUMMARY:Tour de NWA Cycling Event
DESCRIPTION:
URL:https://3wmagazine.com/event/tour-de-nwa-cycling-event-2025/
CATEGORIES:September
END:VEVENT
BEGIN:VEVENT
DTSTART;VALUE=DATE:20250913
DTEND;VALUE=DATE:20250914
DTSTAMP:20260421T195010
CREATED:20250113T062007Z
LAST-MODIFIED:20250113T062021Z
UID:1022798-1757721600-1757807999@3wmagazine.com
SUMMARY:Fresh Start
DESCRIPTION:
URL:https://3wmagazine.com/event/fresh-start-2025/
CATEGORIES:September
END:VEVENT
BEGIN:VEVENT
DTSTART;VALUE=DATE:20250913
DTEND;VALUE=DATE:20260127
DTSTAMP:20260421T195010
CREATED:20250113T062258Z
LAST-MODIFIED:20250113T062319Z
UID:1022801-1757721600-1769471999@3wmagazine.com
SUMMARY:Get in the Game: Sports\, Art\, Culture
DESCRIPTION:
URL:https://3wmagazine.com/event/get-in-the-game-sports-art-culture-2025/
CATEGORIES:December,November,October,September
END:VEVENT
BEGIN:VEVENT
DTSTART;VALUE=DATE:20250913
DTEND;VALUE=DATE:20250914
DTSTAMP:20260421T195010
CREATED:20250512T164130Z
LAST-MODIFIED:20250512T164425Z
UID:1024952-1757721600-1757807999@3wmagazine.com
SUMMARY:Noche En Jalisco
DESCRIPTION:
URL:https://3wmagazine.com/event/noche-en-jalisco-2025/
LOCATION:TheatreSquared\, 477 W. Spring St.\, Fayetteville\, AR\, 72701\, United States
CATEGORIES:September
END:VEVENT
BEGIN:VEVENT
DTSTART;VALUE=DATE:20250914
DTEND;VALUE=DATE:20250915
DTSTAMP:20260421T195010
CREATED:20250113T062427Z
LAST-MODIFIED:20250113T062454Z
UID:1022804-1757808000-1757894399@3wmagazine.com
SUMMARY:International Festival
DESCRIPTION:
URL:https://3wmagazine.com/event/international-festival-2025/
CATEGORIES:September
END:VEVENT
BEGIN:VEVENT
DTSTART;VALUE=DATE:20250915
DTEND;VALUE=DATE:20250922
DTSTAMP:20260421T195010
CREATED:20250113T062618Z
LAST-MODIFIED:20250113T062644Z
UID:1022807-1757894400-1758499199@3wmagazine.com
SUMMARY:Walmart NW Arkansas Championship presented by P&G
DESCRIPTION:
URL:https://3wmagazine.com/event/walmart-nw-arkansas-championship-presented-by-pg-2025/
CATEGORIES:September
END:VEVENT
BEGIN:VEVENT
DTSTART;VALUE=DATE:20250919
DTEND;VALUE=DATE:20250920
DTSTAMP:20260421T195010
CREATED:20250113T174610Z
LAST-MODIFIED:20250113T174623Z
UID:1022945-1758240000-1758326399@3wmagazine.com
SUMMARY:Pagnozzi Parker Charity Golf Tournament\, Ultimate Tailgate and Auction
DESCRIPTION:
URL:https://3wmagazine.com/event/pagnozzi-parker-charity-golf-tournament-ultimate-tailgate-and-auction-2025/
CATEGORIES:September
END:VEVENT
BEGIN:VEVENT
DTSTART;VALUE=DATE:20250924
DTEND;VALUE=DATE:20250928
DTSTAMP:20260421T195010
CREATED:20250113T062747Z
LAST-MODIFIED:20250113T062834Z
UID:1022810-1758672000-1759017599@3wmagazine.com
SUMMARY:Dr. Compton Native Tree and Plant Sale
DESCRIPTION:
URL:https://3wmagazine.com/event/dr-compton-native-tree-and-plant-sale-fall-2025/
CATEGORIES:September
END:VEVENT
BEGIN:VEVENT
DTSTART;VALUE=DATE:20250925
DTEND;VALUE=DATE:20250926
DTSTAMP:20260421T195010
CREATED:20250113T062930Z
LAST-MODIFIED:20250113T062949Z
UID:1022813-1758758400-1758844799@3wmagazine.com
SUMMARY:Fall Garden Market
DESCRIPTION:
URL:https://3wmagazine.com/event/fall-garden-market-2025/
CATEGORIES:September
END:VEVENT
BEGIN:VEVENT
DTSTART;VALUE=DATE:20250927
DTEND;VALUE=DATE:20250928
DTSTAMP:20260421T195010
CREATED:20250113T063045Z
LAST-MODIFIED:20250113T063101Z
UID:1022816-1758931200-1759017599@3wmagazine.com
SUMMARY:Walk for Healthy Living
DESCRIPTION:
URL:https://3wmagazine.com/event/walk-for-healthy-living-2025/
CATEGORIES:September
END:VEVENT
END:VCALENDAR